Workbook

Sheet Legende
B2: Hinweise
B4: K | C4: Krank. Bitte hinterlegen Sie diese Buchstaben, wenn Sie Arbeitsunfähig sind und die Lohnfortzahlung greift. In diesem Fall wird die Regelarbeitszeit hinterlegt
B5: U | C5: Urlaub. Bitte für Urlaubstage hinterlegen. In diesem Fall wird die Regelarbeitszeit hinterlegt
B6: F | C6: Gesetzliche Feiertage. Für diesen Tag werden keine Zeiten hinterlegt. Für diesen Tag muss keine Arbeitsleistung erbracht werden und wird von den Arbeitstagen abgezogen
B7: FX | C7: Flexitage bzw. Überstundenabbau. Wird diese Kennung hinterlegt, wird die Sollarbeitszeit abgezogen

Sheet Übersicht
E2: Übersicht Arbeitszeitkonto
E7: 2026 | H7: Arbeitstage | I7: Soll-Stunden | J7: Geleistete Stunden | K7: Arbeitszeitkonto
E8: Januar | H8: =Januar!F3 -> 21 | I8: =Januar!K3 -> 168 | J8: =Januar!I39 -> 33.5 | K8: =IF(J8=0,0,J8-I8) -> -134.5
E9: Februar | H9: =Februar!F3 -> 20 | I9: =Februar!K3 -> 160 | J9: =Februar!I39 -> 0 | K9: =IF(J9=0,0,J9-I9) -> 0
E10: März | H10: =März!F3 -> 22 | I10: =März!K3 -> 176 | J10: =März!I39 -> 0 | K10: =IF(J10=0,0,J10-I10) -> 0
E11: April | H11: =April!F3 -> 22 | I11: =April!K3 -> 176 | J11: =April!I39 -> 0 | K11: =IF(J11=0,0,J11-I11) -> 0
E12: Mai | H12: =Mai!F3 -> 21 | I12: =Mai!K3 -> 168 | J12: =Mai!I39 -> 0 | K12: =IF(J12=0,0,J12-I12) -> 0
E13: Juni | H13: =Juni!F3 -> 22 | I13: =Juni!K3 -> 176 | J13: =Juni!I39 -> 0 | K13: =IF(J13=0,0,J13-I13) -> 0
E14: Juli | H14: =Juli!F3 -> 23 | I14: =Juli!K3 -> 184 | J14: =Juli!I39 -> 0 | K14: =IF(J14=0,0,J14-I14) -> 0
E15: August | H15: =August!F3 -> 21 | I15: =August!K3 -> 168 | J15: =August!I39 -> 0 | K15: =IF(J15=0,0,J15-I15) -> 0
E16: September | H16: =September!F3 -> 22 | I16: =September!K3 -> 176 | J16: =September!I39 -> 0 | K16: =IF(J16=0,0,J16-I16) -> 0
E17: Oktober | H17: =Oktober!F3 -> 22 | I17: =Oktober!K3 -> 176 | J17: =Oktober!I39 -> 0 | K17: =IF(J17=0,0,J17-I17) -> 0
E18: November | H18: =November!F3 -> 21 | I18: =November!K3 -> 168 | J18: =November!I39 -> 0 | K18: =IF(J18=0,0,J18-I18) -> 0
E19: Dezember | H19: =Dezember!F3 -> 23 | I19: =Dezember!K3 -> 184 | J19: =Dezember!I39 -> 0 | K19: =IF(J19=0,0,J19-I19) -> 0
H20: =SUM(H8:H19) -> 260 | I20: =SUM(I8:I19) -> 2080 | J20: =SUM(J8:J19) -> 33.5 | K20: =SUM(K8:K19) -> -134.5

Sheet Januar
B2: Monat | F2: 46023 | I2: Soll-Stunden/Tag | K2: 0.33333333
B3: Arbeitstage | F3: =COUNT(E7:E37)-COUNTIFS(D7:D37,"F") -> 21 | I3: Soll-Stunden / Monat | K3: =K2*F3*24 -> 168
P5: Jetzt auch als App im PlayStore verfügbar. Scanne den QR-Code und lade die App kostenlos runter
B6: Datum | C6: Tag | D6: Bezahlt frei | E6: Soll-Std. | F6: Beginn | G6: Ende | H6: Pause | I6: Stunden | J6: Über-/Minusstd.
B7: =F2 -> 46023 | C7: =IF(MONTH($F$2)<MONTH(B7),"",TEXT(B7,"TTT")) -> Do | E7: =IF(D7="F",0,IF(MONTH($F$2)<MONTH(B7),"",IF(AND(MONTH($F$2)=MONTH(B7),(OR(C7="Mo",C7="Di",C7="Mi",C7="Do",C7="Fr"))),$K$2,""))) -> 0.33333333 | I7: =IF(OR(D7="U",D7="K",D7="F",D7="FX"),E7,IF(MONTH($F$2)<MONTH(B7),"",G7-F7-H7)) -> 0 | J7: =IF(D7="FX",-E7*24,IF(F7="","",ROUND((G7-H7-F7-E7),4)*24))
B8: =B7+1 -> 46024 | C8: =IF(MONTH($F$2)<MONTH(B8),"",TEXT(B8,"TTT")) -> Fr | E8: =IF(D8="F",0,IF(MONTH($F$2)<MONTH(B8),"",IF(AND(MONTH($F$2)=MONTH(B8),(OR(C8="Mo",C8="Di",C8="Mi",C8="Do",C8="Fr"))),$K$2,""))) -> 0.33333333 | F8: 0.375 | G8: 0.75 | H8: 0.020833333 | I8: =IF(OR(D8="U",D8="K",D8="F",D8="FX"),E8,IF(MONTH($F$2)<MONTH(B8),"",G8-F8-H8)) -> 0.35416667 | J8: =IF(D8="FX",-E8*24,IF(F8="","",ROUND((G8-H8-F8-E8),4)*24)) -> 0.4992
B9: =B8+1 -> 46025 | C9: =IF(MONTH($F$2)<MONTH(B9),"",TEXT(B9,"TTT")) -> Sa | D9: K | E9: =IF(D9="F",0,IF(MONTH($F$2)<MONTH(B9),"",IF(AND(MONTH($F$2)=MONTH(B9),(OR(C9="Mo",C9="Di",C9="Mi",C9="Do",C9="Fr"))),$K$2,""))) | I9: =IF(OR(D9="U",D9="K",D9="F",D9="FX"),E9,IF(MONTH($F$2)<MONTH(B9),"",G9-F9-H9)) | J9: =IF(D9="FX",-E9*24,IF(F9="","",ROUND((G9-H9-F9-E9),4)*24))
B10: =B9+1 -> 46026 | C10: =IF(MONTH($F$2)<MONTH(B10),"",TEXT(B10,"TTT")) -> So | D10: F | E10: =IF(D10="F",0,IF(MONTH($F$2)<MONTH(B10),"",IF(AND(MONTH($F$2)=MONTH(B10),(OR(C10="Mo",C10="Di",C10="Mi",C10="Do",C10="Fr"))),$K$2,""))) -> 0 | I10: =IF(OR(D10="U",D10="K",D10="F",D10="FX"),E10,IF(MONTH($F$2)<MONTH(B10),"",G10-F10-H10)) -> 0 | J10: =IF(D10="FX",-E10*24,IF(F10="","",ROUND((G10-H10-F10-E10),4)*24))
B11: =B10+1 -> 46027 | C11: =IF(MONTH($F$2)<MONTH(B11),"",TEXT(B11,"TTT")) -> Mo | D11: F | E11: =IF(D11="F",0,IF(MONTH($F$2)<MONTH(B11),"",IF(AND(MONTH($F$2)=MONTH(B11),(OR(C11="Mo",C11="Di",C11="Mi",C11="Do",C11="Fr"))),$K$2,""))) -> 0 | I11: =IF(OR(D11="U",D11="K",D11="F",D11="FX"),E11,IF(MONTH($F$2)<MONTH(B11),"",G11-F11-H11)) -> 0 | J11: =IF(D11="FX",-E11*24,IF(F11="","",ROUND((G11-H11-F11-E11),4)*24))
B12: =B11+1 -> 46028 | C12: =IF(MONTH($F$2)<MONTH(B12),"",TEXT(B12,"TTT")) -> Di | E12: =IF(D12="F",0,IF(MONTH($F$2)<MONTH(B12),"",IF(AND(MONTH($F$2)=MONTH(B12),(OR(C12="Mo",C12="Di",C12="Mi",C12="Do",C12="Fr"))),$K$2,""))) -> 0.33333333 | I12: =IF(OR(D12="U",D12="K",D12="F",D12="FX"),E12,IF(MONTH($F$2)<MONTH(B12),"",G12-F12-H12)) -> 0 | J12: =IF(D12="FX",-E12*24,IF(F12="","",ROUND((G12-H12-F12-E12),4)*24))
B13: =B12+1 -> 46029 | C13: =IF(MONTH($F$2)<MONTH(B13),"",TEXT(B13,"TTT")) -> Mi | E13: =IF(D13="F",0,IF(MONTH($F$2)<MONTH(B13),"",IF(AND(MONTH($F$2)=MONTH(B13),(OR(C13="Mo",C13="Di",C13="Mi",C13="Do",C13="Fr"))),$K$2,""))) -> 0.33333333 | I13: =IF(OR(D13="U",D13="K",D13="F",D13="FX"),E13,IF(MONTH($F$2)<MONTH(B13),"",G13-F13-H13)) -> 0 | J13: =IF(D13="FX",-E13*24,IF(F13="","",ROUND((G13-H13-F13-E13),4)*24))
B14: =B13+1 -> 46030 | C14: =IF(MONTH($F$2)<MONTH(B14),"",TEXT(B14,"TTT")) -> Do | E14: =IF(D14="F",0,IF(MONTH($F$2)<MONTH(B14),"",IF(AND(MONTH($F$2)=MONTH(B14),(OR(C14="Mo",C14="Di",C14="Mi",C14="Do",C14="Fr"))),$K$2,""))) -> 0.33333333 | F14: 0.41666667 | G14: 0.83333333 | H14: 0.041666667 | I14: =IF(OR(D14="U",D14="K",D14="F",D14="FX"),E14,IF(MONTH($F$2)<MONTH(B14),"",G14-F14-H14)) -> 0.375 | J14: =IF(D14="FX",-E14*24,IF(F14="","",ROUND((G14-H14-F14-E14),4)*24)) -> 1.0008
B15: =B14+1 -> 46031 | C15: =IF(MONTH($F$2)<MONTH(B15),"",TEXT(B15,"TTT")) -> Fr | D15: U | E15: =IF(D15="F",0,IF(MONTH($F$2)<MONTH(B15),"",IF(AND(MONTH($F$2)=MONTH(B15),(OR(C15="Mo",C15="Di",C15="Mi",C15="Do",C15="Fr"))),$K$2,""))) -> 0.33333333 | I15: =IF(OR(D15="U",D15="K",D15="F",D15="FX"),E15,IF(MONTH($F$2)<MONTH(B15),"",G15-F15-H15)) -> 0.33333333 | J15: =IF(D15="FX",-E15*24,IF(F15="","",ROUND((G15-H15-F15-E15),4)*24))
B16: =B15+1 -> 46032 | C16: =IF(MONTH($F$2)<MONTH(B16),"",TEXT(B16,"TTT")) -> Sa | D16: U | E16: =IF(D16="F",0,IF(MONTH($F$2)<MONTH(B16),"",IF(AND(MONTH($F$2)=MONTH(B16),(OR(C16="Mo",C16="Di",C16="Mi",C16="Do",C16="Fr"))),$K$2,""))) | I16: =IF(OR(D16="U",D16="K",D16="F",D16="FX"),E16,IF(MONTH($F$2)<MONTH(B16),"",G16-F16-H16)) | J16: =IF(D16="FX",-E16*24,IF(F16="","",ROUND((G16-H16-F16-E16),4)*24))
B17: =B16+1 -> 46033 | C17: =IF(MONTH($F$2)<MONTH(B17),"",TEXT(B17,"TTT")) -> So | D17: U | E17: =IF(D17="F",0,IF(MONTH($F$2)<MONTH(B17),"",IF(AND(MONTH($F$2)=MONTH(B17),(OR(C17="Mo",C17="Di",C17="Mi",C17="Do",C17="Fr"))),$K$2,""))) | I17: =IF(OR(D17="U",D17="K",D17="F",D17="FX"),E17,IF(MONTH($F$2)<MONTH(B17),"",G17-F17-H17)) | J17: =IF(D17="FX",-E17*24,IF(F17="","",ROUND((G17-H17-F17-E17),4)*24))
B18: =B17+1 -> 46034 | C18: =IF(MONTH($F$2)<MONTH(B18),"",TEXT(B18,"TTT")) -> Mo | D18: U | E18: =IF(D18="F",0,IF(MONTH($F$2)<MONTH(B18),"",IF(AND(MONTH($F$2)=MONTH(B18),(OR(C18="Mo",C18="Di",C18="Mi",C18="Do",C18="Fr"))),$K$2,""))) -> 0.33333333 | I18: =IF(OR(D18="U",D18="K",D18="F",D18="FX"),E18,IF(MONTH($F$2)<MONTH(B18),"",G18-F18-H18)) -> 0.33333333 | J18: =IF(D18="FX",-E18*24,IF(F18="","",ROUND((G18-H18-F18-E18),4)*24))
B19: =B18+1 -> 46035 | C19: =IF(MONTH($F$2)<MONTH(B19),"",TEXT(B19,"TTT")) -> Di | E19: =IF(D19="F",0,IF(MONTH($F$2)<MONTH(B19),"",IF(AND(MONTH($F$2)=MONTH(B19),(OR(C19="Mo",C19="Di",C19="Mi",C19="Do",C19="Fr"))),$K$2,""))) -> 0.33333333 | I19: =IF(OR(D19="U",D19="K",D19="F",D19="FX"),E19,IF(MONTH($F$2)<MONTH(B19),"",G19-F19-H19)) -> 0 | J19: =IF(D19="FX",-E19*24,IF(F19="","",ROUND((G19-H19-F19-E19),4)*24))
B20: =B19+1 -> 46036 | C20: =IF(MONTH($F$2)<MONTH(B20),"",TEXT(B20,"TTT")) -> Mi | E20: =IF(D20="F",0,IF(MONTH($F$2)<MONTH(B20),"",IF(AND(MONTH($F$2)=MONTH(B20),(OR(C20="Mo",C20="Di",C20="Mi",C20="Do",C20="Fr"))),$K$2,""))) -> 0.33333333 | I20: =IF(OR(D20="U",D20="K",D20="F",D20="FX"),E20,IF(MONTH($F$2)<MONTH(B20),"",G20-F20-H20)) -> 0 | J20: =IF(D20="FX",-E20*24,IF(F20="","",ROUND((G20-H20-F20-E20),4)*24))
B21: =B20+1 -> 46037 | C21: =IF(MONTH($F$2)<MONTH(B21),"",TEXT(B21,"TTT")) -> Do | E21: =IF(D21="F",0,IF(MONTH($F$2)<MONTH(B21),"",IF(AND(MONTH($F$2)=MONTH(B21),(OR(C21="Mo",C21="Di",C21="Mi",C21="Do",C21="Fr"))),$K$2,""))) -> 0.33333333 | I21: =IF(OR(D21="U",D21="K",D21="F",D21="FX"),E21,IF(MONTH($F$2)<MONTH(B21),"",G21-F21-H21)) -> 0 | J21: =IF(D21="FX",-E21*24,IF(F21="","",ROUND((G21-H21-F21-E21),4)*24))
B22: =B21+1 -> 46038 | C22: =IF(MONTH($F$2)<MONTH(B22),"",TEXT(B22,"TTT")) -> Fr | E22: =IF(D22="F",0,IF(MONTH($F$2)<MONTH(B22),"",IF(AND(MONTH($F$2)=MONTH(B22),(OR(C22="Mo",C22="Di",C22="Mi",C22="Do",C22="Fr"))),$K$2,""))) -> 0.33333333 | I22: =IF(OR(D22="U",D22="K",D22="F",D22="FX"),E22,IF(MONTH($F$2)<MONTH(B22),"",G22-F22-H22)) -> 0 | J22: =IF(D22="FX",-E22*24,IF(F22="","",ROUND((G22-H22-F22-E22),4)*24))
B23: =B22+1 -> 46039 | C23: =IF(MONTH($F$2)<MONTH(B23),"",TEXT(B23,"TTT")) -> Sa | E23: =IF(D23="F",0,IF(MONTH($F$2)<MONTH(B23),"",IF(AND(MONTH($F$2)=MONTH(B23),(OR(C23="Mo",C23="Di",C23="Mi",C23="Do",C23="Fr"))),$K$2,""))) | I23: =IF(OR(D23="U",D23="K",D23="F",D23="FX"),E23,IF(MONTH($F$2)<MONTH(B23),"",G23-F23-H23)) -> 0 | J23: =IF(D23="FX",-E23*24,IF(F23="","",ROUND((G23-H23-F23-E23),4)*24))
B24: =B23+1 -> 46040 | C24: =IF(MONTH($F$2)<MONTH(B24),"",TEXT(B24,"TTT")) -> So | E24: =IF(D24="F",0,IF(MONTH($F$2)<MONTH(B24),"",IF(AND(MONTH($F$2)=MONTH(B24),(OR(C24="Mo",C24="Di",C24="Mi",C24="Do",C24="Fr"))),$K$2,""))) | I24: =IF(OR(D24="U",D24="K",D24="F",D24="FX"),E24,IF(MONTH($F$2)<MONTH(B24),"",G24-F24-H24)) -> 0 | J24: =IF(D24="FX",-E24*24,IF(F24="","",ROUND((G24-H24-F24-E24),4)*24))
B25: =B24+1 -> 46041 | C25: =IF(MONTH($F$2)<MONTH(B25),"",TEXT(B25,"TTT")) -> Mo | E25: =IF(D25="F",0,IF(MONTH($F$2)<MONTH(B25),"",IF(AND(MONTH($F$2)=MONTH(B25),(OR(C25="Mo",C25="Di",C25="Mi",C25="Do",C25="Fr"))),$K$2,""))) -> 0.33333333 | I25: =IF(OR(D25="U",D25="K",D25="F",D25="FX"),E25,IF(MONTH($F$2)<MONTH(B25),"",G25-F25-H25)) -> 0 | J25: =IF(D25="FX",-E25*24,IF(F25="","",ROUND((G25-H25-F25-E25),4)*24))
B26: =B25+1 -> 46042 | C26: =IF(MONTH($F$2)<MONTH(B26),"",TEXT(B26,"TTT")) -> Di | E26: =IF(D26="F",0,IF(MONTH($F$2)<MONTH(B26),"",IF(AND(MONTH($F$2)=MONTH(B26),(OR(C26="Mo",C26="Di",C26="Mi",C26="Do",C26="Fr"))),$K$2,""))) -> 0.33333333 | I26: =IF(OR(D26="U",D26="K",D26="F",D26="FX"),E26,IF(MONTH($F$2)<MONTH(B26),"",G26-F26-H26)) -> 0 | J26: =IF(D26="FX",-E26*24,IF(F26="","",ROUND((G26-H26-F26-E26),4)*24))
B27: =B26+1 -> 46043 | C27: =IF(MONTH($F$2)<MONTH(B27),"",TEXT(B27,"TTT")) -> Mi | E27: =IF(D27="F",0,IF(MONTH($F$2)<MONTH(B27),"",IF(AND(MONTH($F$2)=MONTH(B27),(OR(C27="Mo",C27="Di",C27="Mi",C27="Do",C27="Fr"))),$K$2,""))) -> 0.33333333 | I27: =IF(OR(D27="U",D27="K",D27="F",D27="FX"),E27,IF(MONTH($F$2)<MONTH(B27),"",G27-F27-H27)) -> 0 | J27: =IF(D27="FX",-E27*24,IF(F27="","",ROUND((G27-H27-F27-E27),4)*24))
B28: =B27+1 -> 46044 | C28: =IF(MONTH($F$2)<MONTH(B28),"",TEXT(B28,"TTT")) -> Do | E28: =IF(D28="F",0,IF(MONTH($F$2)<MONTH(B28),"",IF(AND(MONTH($F$2)=MONTH(B28),(OR(C28="Mo",C28="Di",C28="Mi",C28="Do",C28="Fr"))),$K$2,""))) -> 0.33333333 | I28: =IF(OR(D28="U",D28="K",D28="F",D28="FX"),E28,IF(MONTH($F$2)<MONTH(B28),"",G28-F28-H28)) -> 0 | J28: =IF(D28="FX",-E28*24,IF(F28="","",ROUND((G28-H28-F28-E28),4)*24))
B29: =B28+1 -> 46045 | C29: =IF(MONTH($F$2)<MONTH(B29),"",TEXT(B29,"TTT")) -> Fr | E29: =IF(D29="F",0,IF(MONTH($F$2)<MONTH(B29),"",IF(AND(MONTH($F$2)=MONTH(B29),(OR(C29="Mo",C29="Di",C29="Mi",C29="Do",C29="Fr"))),$K$2,""))) -> 0.33333333 | I29: =IF(OR(D29="U",D29="K",D29="F",D29="FX"),E29,IF(MONTH($F$2)<MONTH(B29),"",G29-F29-H29)) -> 0 | J29: =IF(D29="FX",-E29*24,IF(F29="","",ROUND((G29-H29-F29-E29),4)*24))
B30: =B29+1 -> 46046 | C30: =IF(MONTH($F$2)<MONTH(B30),"",TEXT(B30,"TTT")) -> Sa | E30: =IF(D30="F",0,IF(MONTH($F$2)<MONTH(B30),"",IF(AND(MONTH($F$2)=MONTH(B30),(OR(C30="Mo",C30="Di",C30="Mi",C30="Do",C30="Fr"))),$K$2,""))) | I30: =IF(OR(D30="U",D30="K",D30="F",D30="FX"),E30,IF(MONTH($F$2)<MONTH(B30),"",G30-F30-H30)) -> 0 | J30: =IF(D30="FX",-E30*24,IF(F30="","",ROUND((G30-H30-F30-E30),4)*24))
... B37: =B36+1 -> 46053 | C37: =IF(MONTH($F$2)<MONTH(B37),"",TEXT(B37,"TTT")) -> Sa | E37: =IF(D37="F",0,IF(MONTH($F$2)<MONTH(B37),"",IF(AND(MONTH($F$2)=MONTH(B37),(OR(C37="Mo",C37="Di",C37="Mi",C37="Do",C37="Fr"))),$K$2,""))) | I37: =IF(OR(D37="U",D37="K",D37="F",D37="FX"),E37,IF(MONTH($F$2)<MONTH(B37),"",G37-F37-H37)) -> 0 | J37: =IF(D37="FX",-E37*24,IF(F37="","",ROUND((G37-H37-F37-E37),4)*24))
B39: Soll-Std./Mon. | E39: =F3*K2*24 -> 168 | F39: Geleistete Stunden (h) | I39: =SUM(I7:I37)*24 -> 33.5 | J39: =SUM(J7:K37) -> 1.5
B43: Datum, Unterschrift Arbeitnehmer | H43: Datum, Unterschrift Vorgesetzter

Sheet Februar
B2: Monat | F2: 46054 | I2: Soll-Stunden/Tag | K2: 0.33333333
B3: Arbeitstage | F3: =COUNT(E7:E37)-COUNTIFS(D7:D37,"F") -> 20 | I3: Soll-Stunden / Monat | K3: =K2*F3*24 -> 160
B6: Datum | C6: Tag | D6: Bezahlt frei | E6: Soll-Std. | F6: Beginn | G6: Ende | H6: Pause | I6: Stunden | J6: Über-/Minusstd.
B7: =F2 -> 46054 | C7: =IF(MONTH($F$2)<MONTH(B7),"",TEXT(B7,"TTT")) -> So | E7: =IF(D7="F",0,IF(MONTH($F$2)<MONTH(B7),"",IF(AND(MONTH($F$2)=MONTH(B7),(OR(C7="Mo",C7="Di",C7="Mi",C7="Do",C7="Fr"))),$K$2,""))) | I7: =IF(OR(D7="U",D7="K",D7="F",D7="FX"),E7,IF(MONTH($F$2)<MONTH(B7),"",G7-F7-H7)) -> 0 | J7: =IF(D7="FX",-E7*24,IF(F7="","",ROUND((G7-H7-F7-E7),4)*24))
B8: =B7+1 -> 46055 | C8: =IF(MONTH($F$2)<MONTH(B8),"",TEXT(B8,"TTT")) -> Mo | E8: =IF(D8="F",0,IF(MONTH($F$2)<MONTH(B8),"",IF(AND(MONTH($F$2)=MONTH(B8),(OR(C8="Mo",C8="Di",C8="Mi",C8="Do",C8="Fr"))),$K$2,""))) -> 0.33333333 | I8: =IF(OR(D8="U",D8="K",D8="F",D8="FX"),E8,IF(MONTH($F$2)<MONTH(B8),"",G8-F8-H8)) -> 0 | J8: =IF(D8="FX",-E8*24,IF(F8="","",ROUND((G8-H8-F8-E8),4)*24))
B9: =B8+1 -> 46056 | C9: =IF(MONTH($F$2)<MONTH(B9),"",TEXT(B9,"TTT")) -> Di | E9: =IF(D9="F",0,IF(MONTH($F$2)<MONTH(B9),"",IF(AND(MONTH($F$2)=MONTH(B9),(OR(C9="Mo",C9="Di",C9="Mi",C9="Do",C9="Fr"))),$K$2,""))) -> 0.33333333 | I9: =IF(OR(D9="U",D9="K",D9="F",D9="FX"),E9,IF(MONTH($F$2)<MONTH(B9),"",G9-F9-H9)) -> 0 | J9: =IF(D9="FX",-E9*24,IF(F9="","",ROUND((G9-H9-F9-E9),4)*24))
B10: =B9+1 -> 46057 | C10: =IF(MONTH($F$2)<MONTH(B10),"",TEXT(B10,"TTT")) -> Mi | E10: =IF(D10="F",0,IF(MONTH($F$2)<MONTH(B10),"",IF(AND(MONTH($F$2)=MONTH(B10),(OR(C10="Mo",C10="Di",C10="Mi",C10="Do",C10="Fr"))),$K$2,""))) -> 0.33333333 | I10: =IF(OR(D10="U",D10="K",D10="F",D10="FX"),E10,IF(MONTH($F$2)<MONTH(B10),"",G10-F10-H10)) -> 0 | J10: =IF(D10="FX",-E10*24,IF(F10="","",ROUND((G10-H10-F10-E10),4)*24))
B11: =B10+1 -> 46058 | C11: =IF(MONTH($F$2)<MONTH(B11),"",TEXT(B11,"TTT")) -> Do | E11: =IF(D11="F",0,IF(MONTH($F$2)<MONTH(B11),"",IF(AND(MONTH($F$2)=MONTH(B11),(OR(C11="Mo",C11="Di",C11="Mi",C11="Do",C11="Fr"))),$K$2,""))) -> 0.33333333 | I11: =IF(OR(D11="U",D11="K",D11="F",D11="FX"),E11,IF(MONTH($F$2)<MONTH(B11),"",G11-F11-H11)) -> 0 | J11: =IF(D11="FX",-E11*24,IF(F11="","",ROUND((G11-H11-F11-E11),4)*24))
B12: =B11+1 -> 46059 | C12: =IF(MONTH($F$2)<MONTH(B12),"",TEXT(B12,"TTT")) -> Fr | E12: =IF(D12="F",0,IF(MONTH($F$2)<MONTH(B12),"",IF(AND(MONTH($F$2)=MONTH(B12),(OR(C12="Mo",C12="Di",C12="Mi",C12="Do",C12="Fr"))),$K$2,""))) -> 0.33333333 | I12: =IF(OR(D12="U",D12="K",D12="F",D12="FX"),E12,IF(MONTH($F$2)<MONTH(B12),"",G12-F12-H12)) -> 0 | J12: =IF(D12="FX",-E12*24,IF(F12="","",ROUND((G12-H12-F12-E12),4)*24))
B13: =B12+1 -> 46060 | C13: =IF(MONTH($F$2)<MONTH(B13),"",TEXT(B13,"TTT")) -> Sa | E13: =IF(D13="F",0,IF(MONTH($F$2)<MONTH(B13),"",IF(AND(MONTH($F$2)=MONTH(B13),(OR(C13="Mo",C13="Di",C13="Mi",C13="Do",C13="Fr"))),$K$2,""))) | I13: =IF(OR(D13="U",D13="K",D13="F",D13="FX"),E13,IF(MONTH($F$2)<MONTH(B13),"",G13-F13-H13)) -> 0 | J13: =IF(D13="FX",-E13*24,IF(F13="","",ROUND((G13-H13-F13-E13),4)*24))
B14: =B13+1 -> 46061 | C14: =IF(MONTH($F$2)<MONTH(B14),"",TEXT(B14,"TTT")) -> So | E14: =IF(D14="F",0,IF(MONTH($F$2)<MONTH(B14),"",IF(AND(MONTH($F$2)=MONTH(B14),(OR(C14="Mo",C14="Di",C14="Mi",C14="Do",C14="Fr"))),$K$2,""))) | I14: =IF(OR(D14="U",D14="K",D14="F",D14="FX"),E14,IF(MONTH($F$2)<MONTH(B14),"",G14-F14-H14)) -> 0 | J14: =IF(D14="FX",-E14*24,IF(F14="","",ROUND((G14-H14-F14-E14),4)*24))
B15: =B14+1 -> 46062 | C15: =IF(MONTH($F$2)<MONTH(B15),"",TEXT(B15,"TTT")) -> Mo | E15: =IF(D15="F",0,IF(MONTH($F$2)<MONTH(B15),"",IF(AND(MONTH($F$2)=MONTH(B15),(OR(C15="Mo",C15="Di",C15="Mi",C15="Do",C15="Fr"))),$K$2,""))) -> 0.33333333 | I15: =IF(OR(D15="U",D15="K",D15="F",D15="FX"),E15,IF(MONTH($F$2)<MONTH(B15),"",G15-F15-H15)) -> 0 | J15: =IF(D15="FX",-E15*24,IF(F15="","",ROUND((G15-H15-F15-E15),4)*24))
B16: =B15+1 -> 46063 | C16: =IF(MONTH($F$2)<MONTH(B16),"",TEXT(B16,"TTT")) -> Di | E16: =IF(D16="F",0,IF(MONTH($F$2)<MONTH(B16),"",IF(AND(MONTH($F$2)=MONTH(B16),(OR(C16="Mo",C16="Di",C16="Mi",C16="Do",C16="Fr"))),$K$2,""))) -> 0.33333333 | I16: =IF(OR(D16="U",D16="K",D16="F",D16="FX"),E16,IF(MONTH($F$2)<MONTH(B16),"",G16-F16-H16)) -> 0 | J16: =IF(D16="FX",-E16*24,IF(F16="","",ROUND((G16-H16-F16-E16),4)*24))
B17: =B16+1 -> 46064 | C17: =IF(MONTH($F$2)<MONTH(B17),"",TEXT(B17,"TTT")) -> Mi | E17: =IF(D17="F",0,IF(MONTH($F$2)<MONTH(B17),"",IF(AND(MONTH($F$2)=MONTH(B17),(OR(C17="Mo",C17="Di",C17="Mi",C17="Do",C17="Fr"))),$K$2,""))) -> 0.33333333 | I17: =IF(OR(D17="U",D17="K",D17="F",D17="FX"),E17,IF(MONTH($F$2)<MONTH(B17),"",G17-F17-H17)) -> 0 | J17: =IF(D17="FX",-E17*24,IF(F17="","",ROUND((G17-H17-F17-E17),4)*24))
B18: =B17+1 -> 46065 | C18: =IF(MONTH($F$2)<MONTH(B18),"",TEXT(B18,"TTT")) -> Do | E18: =IF(D18="F",0,IF(MONTH($F$2)<MONTH(B18),"",IF(AND(MONTH($F$2)=MONTH(B18),(OR(C18="Mo",C18="Di",C18="Mi",C18="Do",C18="Fr"))),$K$2,""))) -> 0.33333333 | I18: =IF(OR(D18="U",D18="K",D18="F",D18="FX"),E18,IF(MONTH($F$2)<MONTH(B18),"",G18-F18-H18)) -> 0 | J18: =IF(D18="FX",-E18*24,IF(F18="","",ROUND((G18-H18-F18-E18),4)*24))
B19: =B18+1 -> 46066 | C19: =IF(MONTH($F$2)<MONTH(B19),"",TEXT(B19,"TTT")) -> Fr | E19: =IF(D19="F",0,IF(MONTH($F$2)<MONTH(B19),"",IF(AND(MONTH($F$2)=MONTH(B19),(OR(C19="Mo",C19="Di",C19="Mi",C19="Do",C19="Fr"))),$K$2,""))) -> 0.33333333 | I19: =IF(OR(D19="U",D19="K",D19="F",D19="FX"),E19,IF(MONTH($F$2)<MONTH(B19),"",G19-F19-H19)) -> 0 | J19: =IF(D19="FX",-E19*24,IF(F19="","",ROUND((G19-H19-F19-E19),4)*24))
... B37: =B36+1 -> 46084 | C37: =IF(MONTH($F$2)<MONTH(B37),"",TEXT(B37,"TTT")) | E37: =IF(D37="F",0,IF(MONTH($F$2)<MONTH(B37),"",IF(AND(MONTH($F$2)=MONTH(B37),(OR(C37="Mo",C37="Di",C37="Mi",C37="Do",C37="Fr"))),$K$2,""))) | I37: =IF(OR(D37="U",D37="K",D37="F",D37="FX"),E37,IF(MONTH($F$2)<MONTH(B37),"",G37-F37-H37)) | J37: =IF(D37="FX",-E37*24,IF(F37="","",ROUND((G37-H37-F37-E37),4)*24))
B39: Soll-Std./Mon. | E39: =F3*K2*24 -> 160 | F39: Geleistete Stunden (h) | I39: =SUM(I7:I37)*24 -> 0 | J39: =SUM(J7:K37) -> 0
B43: Datum, Unterschrift Arbeitnehmer | H43: Datum, Unterschrift Vorgesetzter

Sheet März
B2: Monat | F2: 46082 | I2: Soll-Stunden/Tag | K2: 0.33333333
B3: Arbeitstage | F3: =COUNT(E7:E37)-COUNTIFS(D7:D37,"F") -> 22 | I3: Soll-Stunden / Monat | K3: =K2*F3*24 -> 176
B6: Datum | C6: Tag | D6: Bezahlt frei | E6: Soll-Std. | F6: Beginn | G6: Ende | H6: Pause | I6: Stunden | J6: Über-/Minusstd.
B7: =F2 -> 46082 | C7: =IF(MONTH($F$2)<MONTH(B7),"",TEXT(B7,"TTT")) -> So | E7: =IF(D7="F",0,IF(MONTH($F$2)<MONTH(B7),"",IF(AND(MONTH($F$2)=MONTH(B7),(OR(C7="Mo",C7="Di",C7="Mi",C7="Do",C7="Fr"))),$K$2,""))) | I7: =IF(OR(D7="U",D7="K",D7="F",D7="FX"),E7,IF(MONTH($F$2)<MONTH(B7),"",G7-F7-H7)) -> 0 | J7: =IF(D7="FX",-E7*24,IF(F7="","",ROUND((G7-H7-F7-E7),4)*24))
B8: =B7+1 -> 46083 | C8: =IF(MONTH($F$2)<MONTH(B8),"",TEXT(B8,"TTT")) -> Mo | E8: =IF(D8="F",0,IF(MONTH($F$2)<MONTH(B8),"",IF(AND(MONTH($F$2)=MONTH(B8),(OR(C8="Mo",C8="Di",C8="Mi",C8="Do",C8="Fr"))),$K$2,""))) -> 0.33333333 | I8: =IF(OR(D8="U",D8="K",D8="F",D8="FX"),E8,IF(MONTH($F$2)<MONTH(B8),"",G8-F8-H8)) -> 0 | J8: =IF(D8="FX",-E8*24,IF(F8="","",ROUND((G8-H8-F8-E8),4)*24))
B9: =B8+1 -> 46084 | C9: =IF(MONTH($F$2)<MONTH(B9),"",TEXT(B9,"TTT")) -> Di | E9: =IF(D9="F",0,IF(MONTH($F$2)<MONTH(B9),"",IF(AND(MONTH($F$2)=MONTH(B9),(OR(C9="Mo",C9="Di",C9="Mi",C9="Do",C9="Fr"))),$K$2,""))) -> 0.33333333 | I9: =IF(OR(D9="U",D9="K",D9="F",D9="FX"),E9,IF(MONTH($F$2)<MONTH(B9),"",G9-F9-H9)) -> 0 | J9: =IF(D9="FX",-E9*24,IF(F9="","",ROUND((G9-H9-F9-E9),4)*24))
B10: =B9+1 -> 46085 | C10: =IF(MONTH($F$2)<MONTH(B10),"",TEXT(B10,"TTT")) -> Mi | E10: =IF(D10="F",0,IF(MONTH($F$2)<MONTH(B10),"",IF(AND(MONTH($F$2)=MONTH(B10),(OR(C10="Mo",C10="Di",C10="Mi",C10="Do",C10="Fr"))),$K$2,""))) -> 0.33333333 | I10: =IF(OR(D10="U",D10="K",D10="F",D10="FX"),E10,IF(MONTH($F$2)<MONTH(B10),"",G10-F10-H10)) -> 0 | J10: =IF(D10="FX",-E10*24,IF(F10="","",ROUND((G10-H10-F10-E10),4)*24))
B11: =B10+1 -> 46086 | C11: =IF(MONTH($F$2)<MONTH(B11),"",TEXT(B11,"TTT")) -> Do | E11: =IF(D11="F",0,IF(MONTH($F$2)<MONTH(B11),"",IF(AND(MONTH($F$2)=MONTH(B11),(OR(C11="Mo",C11="Di",C11="Mi",C11="Do",C11="Fr"))),$K$2,""))) -> 0.33333333 | I11: =IF(OR(D11="U",D11="K",D11="F",D11="FX"),E11,IF(MONTH($F$2)<MONTH(B11),"",G11-F11-H11)) -> 0 | J11: =IF(D11="FX",-E11*24,IF(F11="","",ROUND((G11-H11-F11-E11),4)*24))
B12: =B11+1 -> 46087 | C12: =IF(MONTH($F$2)<MONTH(B12),"",TEXT(B12,"TTT")) -> Fr | E12: =IF(D12="F",0,IF(MONTH($F$2)<MONTH(B12),"",IF(AND(MONTH($F$2)=MONTH(B12),(OR(C12="Mo",C12="Di",C12="Mi",C12="Do",C12="Fr"))),$K$2,""))) -> 0.33333333 | I12: =IF(OR(D12="U",D12="K",D12="F",D12="FX"),E12,IF(MONTH($F$2)<MONTH(B12),"",G12-F12-H12)) -> 0 | J12: =IF(D12="FX",-E12*24,IF(F12="","",ROUND((G12-H12-F12-E12),4)*24))
B13: =B12+1 -> 46088 | C13: =IF(MONTH($F$2)<MONTH(B13),"",TEXT(B13,"TTT")) -> Sa | E13: =IF(D13="F",0,IF(MONTH($F$2)<MONTH(B13),"",IF(AND(MONTH($F$2)=MONTH(B13),(OR(C13="Mo",C13="Di",C13="Mi",C13="Do",C13="Fr"))),$K$2,""))) | I13: =IF(OR(D13="U",D13="K",D13="F",D13="FX"),E13,IF(MONTH($F$2)<MONTH(B13),"",G13-F13-H13)) -> 0 | J13: =IF(D13="FX",-E13*24,IF(F13="","",ROUND((G13-H13-F13-E13),4)*24))
B14: =B13+1 -> 46089 | C14: =IF(MONTH($F$2)<MONTH(B14),"",TEXT(B14,"TTT")) -> So | E14: =IF(D14="F",0,IF(MONTH($F$2)<MONTH(B14),"",IF(AND(MONTH($F$2)=MONTH(B14),(OR(C14="Mo",C14="Di",C14="Mi",C14="Do",C14="Fr"))),$K$2,""))) | I14: =IF(OR(D14="U",D14="K",D14="F",D14="FX"),E14,IF(MONTH($F$2)<MONTH(B14),"",G14-F14-H14)) -> 0 | J14: =IF(D14="FX",-E14*24,IF(F14="","",ROUND((G14-H14-F14-E14),4)*24))
B15: =B14+1 -> 46090 | C15: =IF(MONTH($F$2)<MONTH(B15),"",TEXT(B15,"TTT")) -> Mo | E15: =IF(D15="F",0,IF(MONTH($F$2)<MONTH(B15),"",IF(AND(MONTH($F$2)=MONTH(B15),(OR(C15="Mo",C15="Di",C15="Mi",C15="Do",C15="Fr"))),$K$2,""))) -> 0.33333333 | I15: =IF(OR(D15="U",D15="K",D15="F",D15="FX"),E15,IF(MONTH($F$2)<MONTH(B15),"",G15-F15-H15)) -> 0 | J15: =IF(D15="FX",-E15*24,IF(F15="","",ROUND((G15-H15-F15-E15),4)*24))
B16: =B15+1 -> 46091 | C16: =IF(MONTH($F$2)<MONTH(B16),"",TEXT(B16,"TTT")) -> Di | E16: =IF(D16="F",0,IF(MONTH($F$2)<MONTH(B16),"",IF(AND(MONTH($F$2)=MONTH(B16),(OR(C16="Mo",C16="Di",C16="Mi",C16="Do",C16="Fr"))),$K$2,""))) -> 0.33333333 | I16: =IF(OR(D16="U",D16="K",D16="F",D16="FX"),E16,IF(MONTH($F$2)<MONTH(B16),"",G16-F16-H16)) -> 0 | J16: =IF(D16="FX",-E16*24,IF(F16="","",ROUND((G16-H16-F16-E16),4)*24))
B17: =B16+1 -> 46092 | C17: =IF(MONTH($F$2)<MONTH(B17),"",TEXT(B17,"TTT")) -> Mi | E17: =IF(D17="F",0,IF(MONTH($F$2)<MONTH(B17),"",IF(AND(MONTH($F$2)=MONTH(B17),(OR(C17="Mo",C17="Di",C17="Mi",C17="Do",C17="Fr"))),$K$2,""))) -> 0.33333333 | I17: =IF(OR(D17="U",D17="K",D17="F",D17="FX"),E17,IF(MONTH($F$2)<MONTH(B17),"",G17-F17-H17)) -> 0 | J17: =IF(D17="FX",-E17*24,IF(F17="","",ROUND((G17-H17-F17-E17),4)*24))
B18: =B17+1 -> 46093 | C18: =IF(MONTH($F$2)<MONTH(B18),"",TEXT(B18,"TTT")) -> Do | E18: =IF(D18="F",0,IF(MONTH($F$2)<MONTH(B18),"",IF(AND(MONTH($F$2)=MONTH(B18),(OR(C18="Mo",C18="Di",C18="Mi",C18="Do",C18="Fr"))),$K$2,""))) -> 0.33333333 | I18: =IF(OR(D18="U",D18="K",D18="F",D18="FX"),E18,IF(MONTH($F$2)<MONTH(B18),"",G18-F18-H18)) -> 0 | J18: =IF(D18="FX",-E18*24,IF(F18="","",ROUND((G18-H18-F18-E18),4)*24))
B19: =B18+1 -> 46094 | C19: =IF(MONTH($F$2)<MONTH(B19),"",TEXT(B19,"TTT")) -> Fr | E19: =IF(D19="F",0,IF(MONTH($F$2)<MONTH(B19),"",IF(AND(MONTH($F$2)=MONTH(B19),(OR(C19="Mo",C19="Di",C19="Mi",C19="Do",C19="Fr"))),$K$2,""))) -> 0.33333333 | I19: =IF(OR(D19="U",D19="K",D19="F",D19="FX"),E19,IF(MONTH($F$2)<MONTH(B19),"",G19-F19-H19)) -> 0 | J19: =IF(D19="FX",-E19*24,IF(F19="","",ROUND((G19-H19-F19-E19),4)*24))
... B37: =B36+1 -> 46112 | C37: =IF(MONTH($F$2)<MONTH(B37),"",TEXT(B37,"TTT")) -> Di | E37: =IF(D37="F",0,IF(MONTH($F$2)<MONTH(B37),"",IF(AND(MONTH($F$2)=MONTH(B37),(OR(C37="Mo",C37="Di",C37="Mi",C37="Do",C37="Fr"))),$K$2,""))) -> 0.33333333 | I37: =IF(OR(D37="U",D37="K",D37="F",D37="FX"),E37,IF(MONTH($F$2)<MONTH(B37),"",G37-F37-H37)) -> 0 | J37: =IF(D37="FX",-E37*24,IF(F37="","",ROUND((G37-H37-F37-E37),4)*24))
B39: Soll-Std./Mon. | E39: =F3*K2*24 -> 176 | F39: Geleistete Stunden (h) | I39: =SUM(I7:I37)*24 -> 0 | J39: =SUM(J7:K37) -> 0
B43: Datum, Unterschrift Arbeitnehmer | H43: Datum, Unterschrift Vorgesetzter

Sheet April
B2: Monat | F2: 46113 | I2: Soll-Stunden/Tag | K2: 0.33333333
B3: Arbeitstage | F3: =COUNT(E7:E37)-COUNTIFS(D7:D37,"F") -> 22 | I3: Soll-Stunden / Monat | K3: =K2*F3*24 -> 176
B6: Datum | C6: Tag | D6: Bezahlt frei | E6: Soll-Std. | F6: Beginn | G6: Ende | H6: Pause | I6: Stunden | J6: Über-/Minusstd.
B7: =F2 -> 46113 | C7: =IF(MONTH($F$2)<MONTH(B7),"",TEXT(B7,"TTT")) -> Mi | E7: =IF(D7="F",0,IF(MONTH($F$2)<MONTH(B7),"",IF(AND(MONTH($F$2)=MONTH(B7),(OR(C7="Mo",C7="Di",C7="Mi",C7="Do",C7="Fr"))),$K$2,""))) -> 0.33333333 | I7: =IF(OR(D7="U",D7="K",D7="F",D7="FX"),E7,IF(MONTH($F$2)<MONTH(B7),"",G7-F7-H7)) -> 0 | J7: =IF(D7="FX",-E7*24,IF(F7="","",ROUND((G7-H7-F7-E7),4)*24))
B8: =B7+1 -> 46114 | C8: =IF(MONTH($F$2)<MONTH(B8),"",TEXT(B8,"TTT")) -> Do | E8: =IF(D8="F",0,IF(MONTH($F$2)<MONTH(B8),"",IF(AND(MONTH($F$2)=MONTH(B8),(OR(C8="Mo",C8="Di",C8="Mi",C8="Do",C8="Fr"))),$K$2,""))) -> 0.33333333 | I8: =IF(OR(D8="U",D8="K",D8="F",D8="FX"),E8,IF(MONTH($F$2)<MONTH(B8),"",G8-F8-H8)) -> 0 | J8: =IF(D8="FX",-E8*24,IF(F8="","",ROUND((G8-H8-F8-E8),4)*24))
B9: =B8+1 -> 46115 | C9: =IF(MONTH($F$2)<MONTH(B9),"",TEXT(B9,"TTT")) -> Fr | E9: =IF(D9="F",0,IF(MONTH($F$2)<MONTH(B9),"",IF(AND(MONTH($F$2)=MONTH(B9),(OR(C9="Mo",C9="Di",C9="Mi",C9="Do",C9="Fr"))),$K$2,""))) -> 0.33333333 | I9: =IF(OR(D9="U",D9="K",D9="F",D9="FX"),E9,IF(MONTH($F$2)<MONTH(B9),"",G9-F9-H9)) -> 0 | J9: =IF(D9="FX",-E9*24,IF(F9="","",ROUND((G9-H9-F9-E9),4)*24))
B10: =B9+1 -> 46116 | C10: =IF(MONTH($F$2)<MONTH(B10),"",TEXT(B10,"TTT")) -> Sa | E10: =IF(D10="F",0,IF(MONTH($F$2)<MONTH(B10),"",IF(AND(MONTH($F$2)=MONTH(B10),(OR(C10="Mo",C10="Di",C10="Mi",C10="Do",C10="Fr"))),$K$2,""))) | I10: =IF(OR(D10="U",D10="K",D10="F",D10="FX"),E10,IF(MONTH($F$2)<MONTH(B10),"",G10-F10-H10)) -> 0 | J10: =IF(D10="FX",-E10*24,IF(F10="","",ROUND((G10-H10-F10-E10),4)*24))
B11: =B10+1 -> 46117 | C11: =IF(MONTH($F$2)<MONTH(B11),"",TEXT(B11,"TTT")) -> So | E11: =IF(D11="F",0,IF(MONTH($F$2)<MONTH(B11),"",IF(AND(MONTH($F$2)=MONTH(B11),(OR(C11="Mo",C11="Di",C11="Mi",C11="Do",C11="Fr"))),$K$2,""))) | I11: =IF(OR(D11="U",D11="K",D11="F",D11="FX"),E11,IF(MONTH($F$2)<MONTH(B11),"",G11-F11-H11)) -> 0 | J11: =IF(D11="FX",-E11*24,IF(F11="","",ROUND((G11-H11-F11-E11),4)*24))
B12: =B11+1 -> 46118 | C12: =IF(MONTH($F$2)<MONTH(B12),"",TEXT(B12,"TTT")) -> Mo | E12: =IF(D12="F",0,IF(MONTH($F$2)<MONTH(B12),"",IF(AND(MONTH($F$2)=MONTH(B12),(OR(C12="Mo",C12="Di",C12="Mi",C12="Do",C12="Fr"))),$K$2,""))) -> 0.33333333 | I12: =IF(OR(D12="U",D12="K",D12="F",D12="FX"),E12,IF(MONTH($F$2)<MONTH(B12),"",G12-F12-H12)) -> 0 | J12: =IF(D12="FX",-E12*24,IF(F12="","",ROUND((G12-H12-F12-E12),4)*24))
B13: =B12+1 -> 46119 | C13: =IF(MONTH($F$2)<MONTH(B13),"",TEXT(B13,"TTT")) -> Di | E13: =IF(D13="F",0,IF(MONTH($F$2)<MONTH(B13),"",IF(AND(MONTH($F$2)=MONTH(B13),(OR(C13="Mo",C13="Di",C13="Mi",C13="Do",C13="Fr"))),$K$2,""))) -> 0.33333333 | I13: =IF(OR(D13="U",D13="K",D13="F",D13="FX"),E13,IF(MONTH($F$2)<MONTH(B13),"",G13-F13-H13)) -> 0 | J13: =IF(D13="FX",-E13*24,IF(F13="","",ROUND((G13-H13-F13-E13),4)*24))
B14: =B13+1 -> 46120 | C14: =IF(MONTH($F$2)<MONTH(B14),"",TEXT(B14,"TTT")) -> Mi | E14: =IF(D14="F",0,IF(MONTH($F$2)<MONTH(B14),"",IF(AND(MONTH($F$2)=MONTH(B14),(OR(C14="Mo",C14="Di",C14="Mi",C14="Do",C14="Fr"))),$K$2,""))) -> 0.33333333 | I14: =IF(OR(D14="U",D14="K",D14="F",D14="FX"),E14,IF(MONTH($F$2)<MONTH(B14),"",G14-F14-H14)) -> 0 | J14: =IF(D14="FX",-E14*24,IF(F14="","",ROUND((G14-H14-F14-E14),4)*24))
B15: =B14+1 -> 46121 | C15: =IF(MONTH($F$2)<MONTH(B15),"",TEXT(B15,"TTT")) -> Do | E15: =IF(D15="F",0,IF(MONTH($F$2)<MONTH(B15),"",IF(AND(MONTH($F$2)=MONTH(B15),(OR(C15="Mo",C15="Di",C15="Mi",C15="Do",C15="Fr"))),$K$2,""))) -> 0.33333333 | I15: =IF(OR(D15="U",D15="K",D15="F",D15="FX"),E15,IF(MONTH($F$2)<MONTH(B15),"",G15-F15-H15)) -> 0 | J15: =IF(D15="FX",-E15*24,IF(F15="","",ROUND((G15-H15-F15-E15),4)*24))
B16: =B15+1 -> 46122 | C16: =IF(MONTH($F$2)<MONTH(B16),"",TEXT(B16,"TTT")) -> Fr | E16: =IF(D16="F",0,IF(MONTH($F$2)<MONTH(B16),"",IF(AND(MONTH($F$2)=MONTH(B16),(OR(C16="Mo",C16="Di",C16="Mi",C16="Do",C16="Fr"))),$K$2,""))) -> 0.33333333 | I16: =IF(OR(D16="U",D16="K",D16="F",D16="FX"),E16,IF(MONTH($F$2)<MONTH(B16),"",G16-F16-H16)) -> 0 | J16: =IF(D16="FX",-E16*24,IF(F16="","",ROUND((G16-H16-F16-E16),4)*24))
B17: =B16+1 -> 46123 | C17: =IF(MONTH($F$2)<MONTH(B17),"",TEXT(B17,"TTT")) -> Sa | E17: =IF(D17="F",0,IF(MONTH($F$2)<MONTH(B17),"",IF(AND(MONTH($F$2)=MONTH(B17),(OR(C17="Mo",C17="Di",C17="Mi",C17="Do",C17="Fr"))),$K$2,""))) | I17: =IF(OR(D17="U",D17="K",D17="F",D17="FX"),E17,IF(MONTH($F$2)<MONTH(B17),"",G17-F17-H17)) -> 0 | J17: =IF(D17="FX",-E17*24,IF(F17="","",ROUND((G17-H17-F17-E17),4)*24))
B18: =B17+1 -> 46124 | C18: =IF(MONTH($F$2)<MONTH(B18),"",TEXT(B18,"TTT")) -> So | E18: =IF(D18="F",0,IF(MONTH($F$2)<MONTH(B18),"",IF(AND(MONTH($F$2)=MONTH(B18),(OR(C18="Mo",C18="Di",C18="Mi",C18="Do",C18="Fr"))),$K$2,""))) | I18: =IF(OR(D18="U",D18="K",D18="F",D18="FX"),E18,IF(MONTH($F$2)<MONTH(B18),"",G18-F18-H18)) -> 0 | J18: =IF(D18="FX",-E18*24,IF(F18="","",ROUND((G18-H18-F18-E18),4)*24))
B19: =B18+1 -> 46125 | C19: =IF(MONTH($F$2)<MONTH(B19),"",TEXT(B19,"TTT")) -> Mo | E19: =IF(D19="F",0,IF(MONTH($F$2)<MONTH(B19),"",IF(AND(MONTH($F$2)=MONTH(B19),(OR(C19="Mo",C19="Di",C19="Mi",C19="Do",C19="Fr"))),$K$2,""))) -> 0.33333333 | I19: =IF(OR(D19="U",D19="K",D19="F",D19="FX"),E19,IF(MONTH($F$2)<MONTH(B19),"",G19-F19-H19)) -> 0 | J19: =IF(D19="FX",-E19*24,IF(F19="","",ROUND((G19-H19-F19-E19),4)*24))
... B37: =B36+1 -> 46143 | C37: =IF(MONTH($F$2)<MONTH(B37),"",TEXT(B37,"TTT")) | E37: =IF(D37="F",0,IF(MONTH($F$2)<MONTH(B37),"",IF(AND(MONTH($F$2)=MONTH(B37),(OR(C37="Mo",C37="Di",C37="Mi",C37="Do",C37="Fr"))),$K$2,""))) | I37: =IF(OR(D37="U",D37="K",D37="F",D37="FX"),E37,IF(MONTH($F$2)<MONTH(B37),"",G37-F37-H37)) | J37: =IF(D37="FX",-E37*24,IF(F37="","",ROUND((G37-H37-F37-E37),4)*24))
B39: Soll-Std./Mon. | E39: =F3*K2*24 -> 176 | F39: Geleistete Stunden (h) | I39: =SUM(I7:I37)*24 -> 0 | J39: =SUM(J7:K37) -> 0
B43: Datum, Unterschrift Arbeitnehmer | H43: Datum, Unterschrift Vorgesetzter

Sheet Mai
B2: Monat | F2: 46143 | I2: Soll-Stunden/Tag | K2: 0.33333333
B3: Arbeitstage | F3: =COUNT(E7:E37)-COUNTIFS(D7:D37,"F") -> 21 | I3: Soll-Stunden / Monat | K3: =K2*F3*24 -> 168
B6: Datum | C6: Tag | D6: Bezahlt frei | E6: Soll-Std. | F6: Beginn | G6: Ende | H6: Pause | I6: Stunden | J6: Über-/Minusstd.
B7: =F2 -> 46143 | C7: =IF(MONTH($F$2)<MONTH(B7),"",TEXT(B7,"TTT")) -> Fr | E7: =IF(D7="F",0,IF(MONTH($F$2)<MONTH(B7),"",IF(AND(MONTH($F$2)=MONTH(B7),(OR(C7="Mo",C7="Di",C7="Mi",C7="Do",C7="Fr"))),$K$2,""))) -> 0.33333333 | I7: =IF(OR(D7="U",D7="K",D7="F",D7="FX"),E7,IF(MONTH($F$2)<MONTH(B7),"",G7-F7-H7)) -> 0 | J7: =IF(D7="FX",-E7*24,IF(F7="","",ROUND((G7-H7-F7-E7),4)*24))
B8: =B7+1 -> 46144 | C8: =IF(MONTH($F$2)<MONTH(B8),"",TEXT(B8,"TTT")) -> Sa | E8: =IF(D8="F",0,IF(MONTH($F$2)<MONTH(B8),"",IF(AND(MONTH($F$2)=MONTH(B8),(OR(C8="Mo",C8="Di",C8="Mi",C8="Do",C8="Fr"))),$K$2,""))) | I8: =IF(OR(D8="U",D8="K",D8="F",D8="FX"),E8,IF(MONTH($F$2)<MONTH(B8),"",G8-F8-H8)) -> 0 | J8: =IF(D8="FX",-E8*24,IF(F8="","",ROUND((G8-H8-F8-E8),4)*24))
B9: =B8+1 -> 46145 | C9: =IF(MONTH($F$2)<MONTH(B9),"",TEXT(B9,"TTT")) -> So | E9: =IF(D9="F",0,IF(MONTH($F$2)<MONTH(B9),"",IF(AND(MONTH($F$2)=MONTH(B9),(OR(C9="Mo",C9="Di",C9="Mi",C9="Do",C9="Fr"))),$K$2,""))) | I9: =IF(OR(D9="U",D9="K",D9="F",D9="FX"),E9,IF(MONTH($F$2)<MONTH(B9),"",G9-F9-H9)) -> 0 | J9: =IF(D9="FX",-E9*24,IF(F9="","",ROUND((G9-H9-F9-E9),4)*24))
B10: =B9+1 -> 46146 | C10: =IF(MONTH($F$2)<MONTH(B10),"",TEXT(B10,"TTT")) -> Mo | E10: =IF(D10="F",0,IF(MONTH($F$2)<MONTH(B10),"",IF(AND(MONTH($F$2)=MONTH(B10),(OR(C10="Mo",C10="Di",C10="Mi",C10="Do",C10="Fr"))),$K$2,""))) -> 0.33333333 | I10: =IF(OR(D10="U",D10="K",D10="F",D10="FX"),E10,IF(MONTH($F$2)<MONTH(B10),"",G10-F10-H10)) -> 0 | J10: =IF(D10="FX",-E10*24,IF(F10="","",ROUND((G10-H10-F10-E10),4)*24))
B11: =B10+1 -> 46147 | C11: =IF(MONTH($F$2)<MONTH(B11),"",TEXT(B11,"TTT")) -> Di | E11: =IF(D11="F",0,IF(MONTH($F$2)<MONTH(B11),"",IF(AND(MONTH($F$2)=MONTH(B11),(OR(C11="Mo",C11="Di",C11="Mi",C11="Do",C11="Fr"))),$K$2,""))) -> 0.33333333 | I11: =IF(OR(D11="U",D11="K",D11="F",D11="FX"),E11,IF(MONTH($F$2)<MONTH(B11),"",G11-F11-H11)) -> 0 | J11: =IF(D11="FX",-E11*24,IF(F11="","",ROUND((G11-H11-F11-E11),4)*24))
B12: =B11+1 -> 46148 | C12: =IF(MONTH($F$2)<MONTH(B12),"",TEXT(B12,"TTT")) -> Mi | E12: =IF(D12="F",0,IF(MONTH($F$2)<MONTH(B12),"",IF(AND(MONTH($F$2)=MONTH(B12),(OR(C12="Mo",C12="Di",C12="Mi",C12="Do",C12="Fr"))),$K$2,""))) -> 0.33333333 | I12: =IF(OR(D12="U",D12="K",D12="F",D12="FX"),E12,IF(MONTH($F$2)<MONTH(B12),"",G12-F12-H12)) -> 0 | J12: =IF(D12="FX",-E12*24,IF(F12="","",ROUND((G12-H12-F12-E12),4)*24))
B13: =B12+1 -> 46149 | C13: =IF(MONTH($F$2)<MONTH(B13),"",TEXT(B13,"TTT")) -> Do | E13: =IF(D13="F",0,IF(MONTH($F$2)<MONTH(B13),"",IF(AND(MONTH($F$2)=MONTH(B13),(OR(C13="Mo",C13="Di",C13="Mi",C13="Do",C13="Fr"))),$K$2,""))) -> 0.33333333 | I13: =IF(OR(D13="U",D13="K",D13="F",D13="FX"),E13,IF(MONTH($F$2)<MONTH(B13),"",G13-F13-H13)) -> 0 | J13: =IF(D13="FX",-E13*24,IF(F13="","",ROUND((G13-H13-F13-E13),4)*24))
B14: =B13+1 -> 46150 | C14: =IF(MONTH($F$2)<MONTH(B14),"",TEXT(B14,"TTT")) -> Fr | E14: =IF(D14="F",0,IF(MONTH($F$2)<MONTH(B14),"",IF(AND(MONTH($F$2)=MONTH(B14),(OR(C14="Mo",C14="Di",C14="Mi",C14="Do",C14="Fr"))),$K$2,""))) -> 0.33333333 | I14: =IF(OR(D14="U",D14="K",D14="F",D14="FX"),E14,IF(MONTH($F$2)<MONTH(B14),"",G14-F14-H14)) -> 0 | J14: =IF(D14="FX",-E14*24,IF(F14="","",ROUND((G14-H14-F14-E14),4)*24))
B15: =B14+1 -> 46151 | C15: =IF(MONTH($F$2)<MONTH(B15),"",TEXT(B15,"TTT")) -> Sa | E15: =IF(D15="F",0,IF(MONTH($F$2)<MONTH(B15),"",IF(AND(MONTH($F$2)=MONTH(B15),(OR(C15="Mo",C15="Di",C15="Mi",C15="Do",C15="Fr"))),$K$2,""))) | I15: =IF(OR(D15="U",D15="K",D15="F",D15="FX"),E15,IF(MONTH($F$2)<MONTH(B15),"",G15-F15-H15)) -> 0 | J15: =IF(D15="FX",-E15*24,IF(F15="","",ROUND((G15-H15-F15-E15),4)*24))
B16: =B15+1 -> 46152 | C16: =IF(MONTH($F$2)<MONTH(B16),"",TEXT(B16,"TTT")) -> So | E16: =IF(D16="F",0,IF(MONTH($F$2)<MONTH(B16),"",IF(AND(MONTH($F$2)=MONTH(B16),(OR(C16="Mo",C16="Di",C16="Mi",C16="Do",C16="Fr"))),$K$2,""))) | I16: =IF(OR(D16="U",D16="K",D16="F",D16="FX"),E16,IF(MONTH($F$2)<MONTH(B16),"",G16-F16-H16)) -> 0 | J16: =IF(D16="FX",-E16*24,IF(F16="","",ROUND((G16-H16-F16-E16),4)*24))
B17: =B16+1 -> 46153 | C17: =IF(MONTH($F$2)<MONTH(B17),"",TEXT(B17,"TTT")) -> Mo | E17: =IF(D17="F",0,IF(MONTH($F$2)<MONTH(B17),"",IF(AND(MONTH($F$2)=MONTH(B17),(OR(C17="Mo",C17="Di",C17="Mi",C17="Do",C17="Fr"))),$K$2,""))) -> 0.33333333 | I17: =IF(OR(D17="U",D17="K",D17="F",D17="FX"),E17,IF(MONTH($F$2)<MONTH(B17),"",G17-F17-H17)) -> 0 | J17: =IF(D17="FX",-E17*24,IF(F17="","",ROUND((G17-H17-F17-E17),4)*24))
B18: =B17+1 -> 46154 | C18: =IF(MONTH($F$2)<MONTH(B18),"",TEXT(B18,"TTT")) -> Di | E18: =IF(D18="F",0,IF(MONTH($F$2)<MONTH(B18),"",IF(AND(MONTH($F$2)=MONTH(B18),(OR(C18="Mo",C18="Di",C18="Mi",C18="Do",C18="Fr"))),$K$2,""))) -> 0.33333333 | I18: =IF(OR(D18="U",D18="K",D18="F",D18="FX"),E18,IF(MONTH($F$2)<MONTH(B18),"",G18-F18-H18)) -> 0 | J18: =IF(D18="FX",-E18*24,IF(F18="","",ROUND((G18-H18-F18-E18),4)*24))
B19: =B18+1 -> 46155 | C19: =IF(MONTH($F$2)<MONTH(B19),"",TEXT(B19,"TTT")) -> Mi | E19: =IF(D19="F",0,IF(MONTH($F$2)<MONTH(B19),"",IF(AND(MONTH($F$2)=MONTH(B19),(OR(C19="Mo",C19="Di",C19="Mi",C19="Do",C19="Fr"))),$K$2,""))) -> 0.33333333 | I19: =IF(OR(D19="U",D19="K",D19="F",D19="FX"),E19,IF(MONTH($F$2)<MONTH(B19),"",G19-F19-H19)) -> 0 | J19: =IF(D19="FX",-E19*24,IF(F19="","",ROUND((G19-H19-F19-E19),4)*24))
... B37: =B36+1 -> 46173 | C37: =IF(MONTH($F$2)<MONTH(B37),"",TEXT(B37,"TTT")) -> So | E37: =IF(D37="F",0,IF(MONTH($F$2)<MONTH(B37),"",IF(AND(MONTH($F$2)=MONTH(B37),(OR(C37="Mo",C37="Di",C37="Mi",C37="Do",C37="Fr"))),$K$2,""))) | I37: =IF(OR(D37="U",D37="K",D37="F",D37="FX"),E37,IF(MONTH($F$2)<MONTH(B37),"",G37-F37-H37)) -> 0 | J37: =IF(D37="FX",-E37*24,IF(F37="","",ROUND((G37-H37-F37-E37),4)*24))
B39: Soll-Std./Mon. | E39: =F3*K2*24 -> 168 | F39: Geleistete Stunden (h) | I39: =SUM(I7:I37)*24 -> 0 | J39: =SUM(J7:K37) -> 0
B43: Datum, Unterschrift Arbeitnehmer | H43: Datum, Unterschrift Vorgesetzter

Sheet Juni
B2: Monat | F2: 46174 | I2: Soll-Stunden/Tag | K2: 0.33333333
B3: Arbeitstage | F3: =COUNT(E7:E37)-COUNTIFS(D7:D37,"F") -> 22 | I3: Soll-Stunden / Monat | K3: =K2*F3*24 -> 176
B6: Datum | C6: Tag | D6: Bezahlt frei | E6: Soll-Std. | F6: Beginn | G6: Ende | H6: Pause | I6: Stunden | J6: Über-/Minusstd.
B7: =F2 -> 46174 | C7: =IF(MONTH($F$2)<MONTH(B7),"",TEXT(B7,"TTT")) -> Mo | E7: =IF(D7="F",0,IF(MONTH($F$2)<MONTH(B7),"",IF(AND(MONTH($F$2)=MONTH(B7),(OR(C7="Mo",C7="Di",C7="Mi",C7="Do",C7="Fr"))),$K$2,""))) -> 0.33333333 | I7: =IF(OR(D7="U",D7="K",D7="F",D7="FX"),E7,IF(MONTH($F$2)<MONTH(B7),"",G7-F7-H7)) -> 0 | J7: =IF(D7="FX",-E7*24,IF(F7="","",ROUND((G7-H7-F7-E7),4)*24))
B8: =B7+1 -> 46175 | C8: =IF(MONTH($F$2)<MONTH(B8),"",TEXT(B8,"TTT")) -> Di | E8: =IF(D8="F",0,IF(MONTH($F$2)<MONTH(B8),"",IF(AND(MONTH($F$2)=MONTH(B8),(OR(C8="Mo",C8="Di",C8="Mi",C8="Do",C8="Fr"))),$K$2,""))) -> 0.33333333 | I8: =IF(OR(D8="U",D8="K",D8="F",D8="FX"),E8,IF(MONTH($F$2)<MONTH(B8),"",G8-F8-H8)) -> 0 | J8: =IF(D8="FX",-E8*24,IF(F8="","",ROUND((G8-H8-F8-E8),4)*24))
B9: =B8+1 -> 46176 | C9: =IF(MONTH($F$2)<MONTH(B9),"",TEXT(B9,"TTT")) -> Mi | E9: =IF(D9="F",0,IF(MONTH($F$2)<MONTH(B9),"",IF(AND(MONTH($F$2)=MONTH(B9),(OR(C9="Mo",C9="Di",C9="Mi",C9="Do",C9="Fr"))),$K$2,""))) -> 0.33333333 | I9: =IF(OR(D9="U",D9="K",D9="F",D9="FX"),E9,IF(MONTH($F$2)<MONTH(B9),"",G9-F9-H9)) -> 0 | J9: =IF(D9="FX",-E9*24,IF(F9="","",ROUND((G9-H9-F9-E9),4)*24))
B10: =B9+1 -> 46177 | C10: =IF(MONTH($F$2)<MONTH(B10),"",TEXT(B10,"TTT")) -> Do | E10: =IF(D10="F",0,IF(MONTH($F$2)<MONTH(B10),"",IF(AND(MONTH($F$2)=MONTH(B10),(OR(C10="Mo",C10="Di",C10="Mi",C10="Do",C10="Fr"))),$K$2,""))) -> 0.33333333 | I10: =IF(OR(D10="U",D10="K",D10="F",D10="FX"),E10,IF(MONTH($F$2)<MONTH(B10),"",G10-F10-H10)) -> 0 | J10: =IF(D10="FX",-E10*24,IF(F10="","",ROUND((G10-H10-F10-E10),4)*24))
B11: =B10+1 -> 46178 | C11: =IF(MONTH($F$2)<MONTH(B11),"",TEXT(B11,"TTT")) -> Fr | E11: =IF(D11="F",0,IF(MONTH($F$2)<MONTH(B11),"",IF(AND(MONTH($F$2)=MONTH(B11),(OR(C11="Mo",C11="Di",C11="Mi",C11="Do",C11="Fr"))),$K$2,""))) -> 0.33333333 | I11: =IF(OR(D11="U",D11="K",D11="F",D11="FX"),E11,IF(MONTH($F$2)<MONTH(B11),"",G11-F11-H11)) -> 0 | J11: =IF(D11="FX",-E11*24,IF(F11="","",ROUND((G11-H11-F11-E11),4)*24))
B12: =B11+1 -> 46179 | C12: =IF(MONTH($F$2)<MONTH(B12),"",TEXT(B12,"TTT")) -> Sa | E12: =IF(D12="F",0,IF(MONTH($F$2)<MONTH(B12),"",IF(AND(MONTH($F$2)=MONTH(B12),(OR(C12="Mo",C12="Di",C12="Mi",C12="Do",C12="Fr"))),$K$2,""))) | I12: =IF(OR(D12="U",D12="K",D12="F",D12="FX"),E12,IF(MONTH($F$2)<MONTH(B12),"",G12-F12-H12)) -> 0 | J12: =IF(D12="FX",-E12*24,IF(F12="","",ROUND((G12-H12-F12-E12),4)*24))
B13: =B12+1 -> 46180 | C13: =IF(MONTH($F$2)<MONTH(B13),"",TEXT(B13,"TTT")) -> So | E13: =IF(D13="F",0,IF(MONTH($F$2)<MONTH(B13),"",IF(AND(MONTH($F$2)=MONTH(B13),(OR(C13="Mo",C13="Di",C13="Mi",C13="Do",C13="Fr"))),$K$2,""))) | I13: =IF(OR(D13="U",D13="K",D13="F",D13="FX"),E13,IF(MONTH($F$2)<MONTH(B13),"",G13-F13-H13)) -> 0 | J13: =IF(D13="FX",-E13*24,IF(F13="","",ROUND((G13-H13-F13-E13),4)*24))
B14: =B13+1 -> 46181 | C14: =IF(MONTH($F$2)<MONTH(B14),"",TEXT(B14,"TTT")) -> Mo | E14: =IF(D14="F",0,IF(MONTH($F$2)<MONTH(B14),"",IF(AND(MONTH($F$2)=MONTH(B14),(OR(C14="Mo",C14="Di",C14="Mi",C14="Do",C14="Fr"))),$K$2,""))) -> 0.33333333 | I14: =IF(OR(D14="U",D14="K",D14="F",D14="FX"),E14,IF(MONTH($F$2)<MONTH(B14),"",G14-F14-H14)) -> 0 | J14: =IF(D14="FX",-E14*24,IF(F14="","",ROUND((G14-H14-F14-E14),4)*24))
B15: =B14+1 -> 46182 | C15: =IF(MONTH($F$2)<MONTH(B15),"",TEXT(B15,"TTT")) -> Di | E15: =IF(D15="F",0,IF(MONTH($F$2)<MONTH(B15),"",IF(AND(MONTH($F$2)=MONTH(B15),(OR(C15="Mo",C15="Di",C15="Mi",C15="Do",C15="Fr"))),$K$2,""))) -> 0.33333333 | I15: =IF(OR(D15="U",D15="K",D15="F",D15="FX"),E15,IF(MONTH($F$2)<MONTH(B15),"",G15-F15-H15)) -> 0 | J15: =IF(D15="FX",-E15*24,IF(F15="","",ROUND((G15-H15-F15-E15),4)*24))
B16: =B15+1 -> 46183 | C16: =IF(MONTH($F$2)<MONTH(B16),"",TEXT(B16,"TTT")) -> Mi | E16: =IF(D16="F",0,IF(MONTH($F$2)<MONTH(B16),"",IF(AND(MONTH($F$2)=MONTH(B16),(OR(C16="Mo",C16="Di",C16="Mi",C16="Do",C16="Fr"))),$K$2,""))) -> 0.33333333 | I16: =IF(OR(D16="U",D16="K",D16="F",D16="FX"),E16,IF(MONTH($F$2)<MONTH(B16),"",G16-F16-H16)) -> 0 | J16: =IF(D16="FX",-E16*24,IF(F16="","",ROUND((G16-H16-F16-E16),4)*24))
B17: =B16+1 -> 46184 | C17: =IF(MONTH($F$2)<MONTH(B17),"",TEXT(B17,"TTT")) -> Do | E17: =IF(D17="F",0,IF(MONTH($F$2)<MONTH(B17),"",IF(AND(MONTH($F$2)=MONTH(B17),(OR(C17="Mo",C17="Di",C17="Mi",C17="Do",C17="Fr"))),$K$2,""))) -> 0.33333333 | I17: =IF(OR(D17="U",D17="K",D17="F",D17="FX"),E17,IF(MONTH($F$2)<MONTH(B17),"",G17-F17-H17)) -> 0 | J17: =IF(D17="FX",-E17*24,IF(F17="","",ROUND((G17-H17-F17-E17),4)*24))
B18: =B17+1 -> 46185 | C18: =IF(MONTH($F$2)<MONTH(B18),"",TEXT(B18,"TTT")) -> Fr | E18: =IF(D18="F",0,IF(MONTH($F$2)<MONTH(B18),"",IF(AND(MONTH($F$2)=MONTH(B18),(OR(C18="Mo",C18="Di",C18="Mi",C18="Do",C18="Fr"))),$K$2,""))) -> 0.33333333 | I18: =IF(OR(D18="U",D18="K",D18="F",D18="FX"),E18,IF(MONTH($F$2)<MONTH(B18),"",G18-F18-H18)) -> 0 | J18: =IF(D18="FX",-E18*24,IF(F18="","",ROUND((G18-H18-F18-E18),4)*24))
B19: =B18+1 -> 46186 | C19: =IF(MONTH($F$2)<MONTH(B19),"",TEXT(B19,"TTT")) -> Sa | E19: =IF(D19="F",0,IF(MONTH($F$2)<MONTH(B19),"",IF(AND(MONTH($F$2)=MONTH(B19),(OR(C19="Mo",C19="Di",C19="Mi",C19="Do",C19="Fr"))),$K$2,""))) | I19: =IF(OR(D19="U",D19="K",D19="F",D19="FX"),E19,IF(MONTH($F$2)<MONTH(B19),"",G19-F19-H19)) -> 0 | J19: =IF(D19="FX",-E19*24,IF(F19="","",ROUND((G19-H19-F19-E19),4)*24))
... B37: =B36+1 -> 46204 | C37: =IF(MONTH($F$2)<MONTH(B37),"",TEXT(B37,"TTT")) | E37: =IF(D37="F",0,IF(MONTH($F$2)<MONTH(B37),"",IF(AND(MONTH($F$2)=MONTH(B37),(OR(C37="Mo",C37="Di",C37="Mi",C37="Do",C37="Fr"))),$K$2,""))) | I37: =IF(OR(D37="U",D37="K",D37="F",D37="FX"),E37,IF(MONTH($F$2)<MONTH(B37),"",G37-F37-H37)) | J37: =IF(D37="FX",-E37*24,IF(F37="","",ROUND((G37-H37-F37-E37),4)*24))
B39: Soll-Std./Mon. | E39: =F3*K2*24 -> 176 | F39: Geleistete Stunden (h) | I39: =SUM(I7:I37)*24 -> 0 | J39: =SUM(J7:K37) -> 0
B43: Datum, Unterschrift Arbeitnehmer | H43: Datum, Unterschrift Vorgesetzter

Sheet Juli
B2: Monat | F2: 46204 | I2: Soll-Stunden/Tag | K2: 0.33333333
B3: Arbeitstage | F3: =COUNT(E7:E37)-COUNTIFS(D7:D37,"F") -> 23 | I3: Soll-Stunden / Monat | K3: =K2*F3*24 -> 184
B6: Datum | C6: Tag | D6: Bezahlt frei | E6: Soll-Std. | F6: Beginn | G6: Ende | H6: Pause | I6: Stunden | J6: Über-/Minusstd.
B7: =F2 -> 46204 | C7: =IF(MONTH($F$2)<MONTH(B7),"",TEXT(B7,"TTT")) -> Mi | E7: =IF(D7="F",0,IF(MONTH($F$2)<MONTH(B7),"",IF(AND(MONTH($F$2)=MONTH(B7),(OR(C7="Mo",C7="Di",C7="Mi",C7="Do",C7="Fr"))),$K$2,""))) -> 0.33333333 | I7: =IF(OR(D7="U",D7="K",D7="F",D7="FX"),E7,IF(MONTH($F$2)<MONTH(B7),"",G7-F7-H7)) -> 0 | J7: =IF(D7="FX",-E7*24,IF(F7="","",ROUND((G7-H7-F7-E7),4)*24))
B8: =B7+1 -> 46205 | C8: =IF(MONTH($F$2)<MONTH(B8),"",TEXT(B8,"TTT")) -> Do | E8: =IF(D8="F",0,IF(MONTH($F$2)<MONTH(B8),"",IF(AND(MONTH($F$2)=MONTH(B8),(OR(C8="Mo",C8="Di",C8="Mi",C8="Do",C8="Fr"))),$K$2,""))) -> 0.33333333 | I8: =IF(OR(D8="U",D8="K",D8="F",D8="FX"),E8,IF(MONTH($F$2)<MONTH(B8),"",G8-F8-H8)) -> 0 | J8: =IF(D8="FX",-E8*24,IF(F8="","",ROUND((G8-H8-F8-E8),4)*24))
B9: =B8+1 -> 46206 | C9: =IF(MONTH($F$2)<MONTH(B9),"",TEXT(B9,"TTT")) -> Fr | E9: =IF(D9="F",0,IF(MONTH($F$2)<MONTH(B9),"",IF(AND(MONTH($F$2)=MONTH(B9),(OR(C9="Mo",C9="Di",C9="Mi",C9="Do",C9="Fr"))),$K$2,""))) -> 0.33333333 | I9: =IF(OR(D9="U",D9="K",D9="F",D9="FX"),E9,IF(MONTH($F$2)<MONTH(B9),"",G9-F9-H9)) -> 0 | J9: =IF(D9="FX",-E9*24,IF(F9="","",ROUND((G9-H9-F9-E9),4)*24))
B10: =B9+1 -> 46207 | C10: =IF(MONTH($F$2)<MONTH(B10),"",TEXT(B10,"TTT")) -> Sa | E10: =IF(D10="F",0,IF(MONTH($F$2)<MONTH(B10),"",IF(AND(MONTH($F$2)=MONTH(B10),(OR(C10="Mo",C10="Di",C10="Mi",C10="Do",C10="Fr"))),$K$2,""))) | I10: =IF(OR(D10="U",D10="K",D10="F",D10="FX"),E10,IF(MONTH($F$2)<MONTH(B10),"",G10-F10-H10)) -> 0 | J10: =IF(D10="FX",-E10*24,IF(F10="","",ROUND((G10-H10-F10-E10),4)*24))
B11: =B10+1 -> 46208 | C11: =IF(MONTH($F$2)<MONTH(B11),"",TEXT(B11,"TTT")) -> So | E11: =IF(D11="F",0,IF(MONTH($F$2)<MONTH(B11),"",IF(AND(MONTH($F$2)=MONTH(B11),(OR(C11="Mo",C11="Di",C11="Mi",C11="Do",C11="Fr"))),$K$2,""))) | I11: =IF(OR(D11="U",D11="K",D11="F",D11="FX"),E11,IF(MONTH($F$2)<MONTH(B11),"",G11-F11-H11)) -> 0 | J11: =IF(D11="FX",-E11*24,IF(F11="","",ROUND((G11-H11-F11-E11),4)*24))
B12: =B11+1 -> 46209 | C12: =IF(MONTH($F$2)<MONTH(B12),"",TEXT(B12,"TTT")) -> Mo | E12: =IF(D12="F",0,IF(MONTH($F$2)<MONTH(B12),"",IF(AND(MONTH($F$2)=MONTH(B12),(OR(C12="Mo",C12="Di",C12="Mi",C12="Do",C12="Fr"))),$K$2,""))) -> 0.33333333 | I12: =IF(OR(D12="U",D12="K",D12="F",D12="FX"),E12,IF(MONTH($F$2)<MONTH(B12),"",G12-F12-H12)) -> 0 | J12: =IF(D12="FX",-E12*24,IF(F12="","",ROUND((G12-H12-F12-E12),4)*24))
B13: =B12+1 -> 46210 | C13: =IF(MONTH($F$2)<MONTH(B13),"",TEXT(B13,"TTT")) -> Di | E13: =IF(D13="F",0,IF(MONTH($F$2)<MONTH(B13),"",IF(AND(MONTH($F$2)=MONTH(B13),(OR(C13="Mo",C13="Di",C13="Mi",C13="Do",C13="Fr"))),$K$2,""))) -> 0.33333333 | I13: =IF(OR(D13="U",D13="K",D13="F",D13="FX"),E13,IF(MONTH($F$2)<MONTH(B13),"",G13-F13-H13)) -> 0 | J13: =IF(D13="FX",-E13*24,IF(F13="","",ROUND((G13-H13-F13-E13),4)*24))
B14: =B13+1 -> 46211 | C14: =IF(MONTH($F$2)<MONTH(B14),"",TEXT(B14,"TTT")) -> Mi | E14: =IF(D14="F",0,IF(MONTH($F$2)<MONTH(B14),"",IF(AND(MONTH($F$2)=MONTH(B14),(OR(C14="Mo",C14="Di",C14="Mi",C14="Do",C14="Fr"))),$K$2,""))) -> 0.33333333 | I14: =IF(OR(D14="U",D14="K",D14="F",D14="FX"),E14,IF(MONTH($F$2)<MONTH(B14),"",G14-F14-H14)) -> 0 | J14: =IF(D14="FX",-E14*24,IF(F14="","",ROUND((G14-H14-F14-E14),4)*24))
B15: =B14+1 -> 46212 | C15: =IF(MONTH($F$2)<MONTH(B15),"",TEXT(B15,"TTT")) -> Do | E15: =IF(D15="F",0,IF(MONTH($F$2)<MONTH(B15),"",IF(AND(MONTH($F$2)=MONTH(B15),(OR(C15="Mo",C15="Di",C15="Mi",C15="Do",C15="Fr"))),$K$2,""))) -> 0.33333333 | I15: =IF(OR(D15="U",D15="K",D15="F",D15="FX"),E15,IF(MONTH($F$2)<MONTH(B15),"",G15-F15-H15)) -> 0 | J15: =IF(D15="FX",-E15*24,IF(F15="","",ROUND((G15-H15-F15-E15),4)*24))
B16: =B15+1 -> 46213 | C16: =IF(MONTH($F$2)<MONTH(B16),"",TEXT(B16,"TTT")) -> Fr | E16: =IF(D16="F",0,IF(MONTH($F$2)<MONTH(B16),"",IF(AND(MONTH($F$2)=MONTH(B16),(OR(C16="Mo",C16="Di",C16="Mi",C16="Do",C16="Fr"))),$K$2,""))) -> 0.33333333 | I16: =IF(OR(D16="U",D16="K",D16="F",D16="FX"),E16,IF(MONTH($F$2)<MONTH(B16),"",G16-F16-H16)) -> 0 | J16: =IF(D16="FX",-E16*24,IF(F16="","",ROUND((G16-H16-F16-E16),4)*24))
B17: =B16+1 -> 46214 | C17: =IF(MONTH($F$2)<MONTH(B17),"",TEXT(B17,"TTT")) -> Sa | E17: =IF(D17="F",0,IF(MONTH($F$2)<MONTH(B17),"",IF(AND(MONTH($F$2)=MONTH(B17),(OR(C17="Mo",C17="Di",C17="Mi",C17="Do",C17="Fr"))),$K$2,""))) | I17: =IF(OR(D17="U",D17="K",D17="F",D17="FX"),E17,IF(MONTH($F$2)<MONTH(B17),"",G17-F17-H17)) -> 0 | J17: =IF(D17="FX",-E17*24,IF(F17="","",ROUND((G17-H17-F17-E17),4)*24))
B18: =B17+1 -> 46215 | C18: =IF(MONTH($F$2)<MONTH(B18),"",TEXT(B18,"TTT")) -> So | E18: =IF(D18="F",0,IF(MONTH($F$2)<MONTH(B18),"",IF(AND(MONTH($F$2)=MONTH(B18),(OR(C18="Mo",C18="Di",C18="Mi",C18="Do",C18="Fr"))),$K$2,""))) | I18: =IF(OR(D18="U",D18="K",D18="F",D18="FX"),E18,IF(MONTH($F$2)<MONTH(B18),"",G18-F18-H18)) -> 0 | J18: =IF(D18="FX",-E18*24,IF(F18="","",ROUND((G18-H18-F18-E18),4)*24))
B19: =B18+1 -> 46216 | C19: =IF(MONTH($F$2)<MONTH(B19),"",TEXT(B19,"TTT")) -> Mo | E19: =IF(D19="F",0,IF(MONTH($F$2)<MONTH(B19),"",IF(AND(MONTH($F$2)=MONTH(B19),(OR(C19="Mo",C19="Di",C19="Mi",C19="Do",C19="Fr"))),$K$2,""))) -> 0.33333333 | I19: =IF(OR(D19="U",D19="K",D19="F",D19="FX"),E19,IF(MONTH($F$2)<MONTH(B19),"",G19-F19-H19)) -> 0 | J19: =IF(D19="FX",-E19*24,IF(F19="","",ROUND((G19-H19-F19-E19),4)*24))
... B37: =B36+1 -> 46234 | C37: =IF(MONTH($F$2)<MONTH(B37),"",TEXT(B37,"TTT")) -> Fr | E37: =IF(D37="F",0,IF(MONTH($F$2)<MONTH(B37),"",IF(AND(MONTH($F$2)=MONTH(B37),(OR(C37="Mo",C37="Di",C37="Mi",C37="Do",C37="Fr"))),$K$2,""))) -> 0.33333333 | I37: =IF(OR(D37="U",D37="K",D37="F",D37="FX"),E37,IF(MONTH($F$2)<MONTH(B37),"",G37-F37-H37)) -> 0 | J37: =IF(D37="FX",-E37*24,IF(F37="","",ROUND((G37-H37-F37-E37),4)*24))
B39: Soll-Std./Mon. | E39: =F3*K2*24 -> 184 | F39: Geleistete Stunden (h) | I39: =SUM(I7:I37)*24 -> 0 | J39: =SUM(J7:K37) -> 0
B43: Datum, Unterschrift Arbeitnehmer | H43: Datum, Unterschrift Vorgesetzter

Sheet August
B2: Monat | F2: 46235 | I2: Soll-Stunden/Tag | K2: 0.33333333
B3: Arbeitstage | F3: =COUNT(E7:E37)-COUNTIFS(D7:D37,"F") -> 21 | I3: Soll-Stunden / Monat | K3: =K2*F3*24 -> 168
B6: Datum | C6: Tag | D6: Bezahlt frei | E6: Soll-Std. | F6: Beginn | G6: Ende | H6: Pause | I6: Stunden | J6: Über-/Minusstd.
B7: =F2 -> 46235 | C7: =IF(MONTH($F$2)<MONTH(B7),"",TEXT(B7,"TTT")) -> Sa | E7: =IF(D7="F",0,IF(MONTH($F$2)<MONTH(B7),"",IF(AND(MONTH($F$2)=MONTH(B7),(OR(C7="Mo",C7="Di",C7="Mi",C7="Do",C7="Fr"))),$K$2,""))) | I7: =IF(OR(D7="U",D7="K",D7="F",D7="FX"),E7,IF(MONTH($F$2)<MONTH(B7),"",G7-F7-H7)) -> 0 | J7: =IF(D7="FX",-E7*24,IF(F7="","",ROUND((G7-H7-F7-E7),4)*24))
B8: =B7+1 -> 46236 | C8: =IF(MONTH($F$2)<MONTH(B8),"",TEXT(B8,"TTT")) -> So | E8: =IF(D8="F",0,IF(MONTH($F$2)<MONTH(B8),"",IF(AND(MONTH($F$2)=MONTH(B8),(OR(C8="Mo",C8="Di",C8="Mi",C8="Do",C8="Fr"))),$K$2,""))) | I8: =IF(OR(D8="U",D8="K",D8="F",D8="FX"),E8,IF(MONTH($F$2)<MONTH(B8),"",G8-F8-H8)) -> 0 | J8: =IF(D8="FX",-E8*24,IF(F8="","",ROUND((G8-H8-F8-E8),4)*24))
B9: =B8+1 -> 46237 | C9: =IF(MONTH($F$2)<MONTH(B9),"",TEXT(B9,"TTT")) -> Mo | E9: =IF(D9="F",0,IF(MONTH($F$2)<MONTH(B9),"",IF(AND(MONTH($F$2)=MONTH(B9),(OR(C9="Mo",C9="Di",C9="Mi",C9="Do",C9="Fr"))),$K$2,""))) -> 0.33333333 | I9: =IF(OR(D9="U",D9="K",D9="F",D9="FX"),E9,IF(MONTH($F$2)<MONTH(B9),"",G9-F9-H9)) -> 0 | J9: =IF(D9="FX",-E9*24,IF(F9="","",ROUND((G9-H9-F9-E9),4)*24))
B10: =B9+1 -> 46238 | C10: =IF(MONTH($F$2)<MONTH(B10),"",TEXT(B10,"TTT")) -> Di | E10: =IF(D10="F",0,IF(MONTH($F$2)<MONTH(B10),"",IF(AND(MONTH($F$2)=MONTH(B10),(OR(C10="Mo",C10="Di",C10="Mi",C10="Do",C10="Fr"))),$K$2,""))) -> 0.33333333 | I10: =IF(OR(D10="U",D10="K",D10="F",D10="FX"),E10,IF(MONTH($F$2)<MONTH(B10),"",G10-F10-H10)) -> 0 | J10: =IF(D10="FX",-E10*24,IF(F10="","",ROUND((G10-H10-F10-E10),4)*24))
B11: =B10+1 -> 46239 | C11: =IF(MONTH($F$2)<MONTH(B11),"",TEXT(B11,"TTT")) -> Mi | E11: =IF(D11="F",0,IF(MONTH($F$2)<MONTH(B11),"",IF(AND(MONTH($F$2)=MONTH(B11),(OR(C11="Mo",C11="Di",C11="Mi",C11="Do",C11="Fr"))),$K$2,""))) -> 0.33333333 | I11: =IF(OR(D11="U",D11="K",D11="F",D11="FX"),E11,IF(MONTH($F$2)<MONTH(B11),"",G11-F11-H11)) -> 0 | J11: =IF(D11="FX",-E11*24,IF(F11="","",ROUND((G11-H11-F11-E11),4)*24))
B12: =B11+1 -> 46240 | C12: =IF(MONTH($F$2)<MONTH(B12),"",TEXT(B12,"TTT")) -> Do | E12: =IF(D12="F",0,IF(MONTH($F$2)<MONTH(B12),"",IF(AND(MONTH($F$2)=MONTH(B12),(OR(C12="Mo",C12="Di",C12="Mi",C12="Do",C12="Fr"))),$K$2,""))) -> 0.33333333 | I12: =IF(OR(D12="U",D12="K",D12="F",D12="FX"),E12,IF(MONTH($F$2)<MONTH(B12),"",G12-F12-H12)) -> 0 | J12: =IF(D12="FX",-E12*24,IF(F12="","",ROUND((G12-H12-F12-E12),4)*24))
B13: =B12+1 -> 46241 | C13: =IF(MONTH($F$2)<MONTH(B13),"",TEXT(B13,"TTT")) -> Fr | E13: =IF(D13="F",0,IF(MONTH($F$2)<MONTH(B13),"",IF(AND(MONTH($F$2)=MONTH(B13),(OR(C13="Mo",C13="Di",C13="Mi",C13="Do",C13="Fr"))),$K$2,""))) -> 0.33333333 | I13: =IF(OR(D13="U",D13="K",D13="F",D13="FX"),E13,IF(MONTH($F$2)<MONTH(B13),"",G13-F13-H13)) -> 0 | J13: =IF(D13="FX",-E13*24,IF(F13="","",ROUND((G13-H13-F13-E13),4)*24))
B14: =B13+1 -> 46242 | C14: =IF(MONTH($F$2)<MONTH(B14),"",TEXT(B14,"TTT")) -> Sa | E14: =IF(D14="F",0,IF(MONTH($F$2)<MONTH(B14),"",IF(AND(MONTH($F$2)=MONTH(B14),(OR(C14="Mo",C14="Di",C14="Mi",C14="Do",C14="Fr"))),$K$2,""))) | I14: =IF(OR(D14="U",D14="K",D14="F",D14="FX"),E14,IF(MONTH($F$2)<MONTH(B14),"",G14-F14-H14)) -> 0 | J14: =IF(D14="FX",-E14*24,IF(F14="","",ROUND((G14-H14-F14-E14),4)*24))
B15: =B14+1 -> 46243 | C15: =IF(MONTH($F$2)<MONTH(B15),"",TEXT(B15,"TTT")) -> So | E15: =IF(D15="F",0,IF(MONTH($F$2)<MONTH(B15),"",IF(AND(MONTH($F$2)=MONTH(B15),(OR(C15="Mo",C15="Di",C15="Mi",C15="Do",C15="Fr"))),$K$2,""))) | I15: =IF(OR(D15="U",D15="K",D15="F",D15="FX"),E15,IF(MONTH($F$2)<MONTH(B15),"",G15-F15-H15)) -> 0 | J15: =IF(D15="FX",-E15*24,IF(F15="","",ROUND((G15-H15-F15-E15),4)*24))
B16: =B15+1 -> 46244 | C16: =IF(MONTH($F$2)<MONTH(B16),"",TEXT(B16,"TTT")) -> Mo | E16: =IF(D16="F",0,IF(MONTH($F$2)<MONTH(B16),"",IF(AND(MONTH($F$2)=MONTH(B16),(OR(C16="Mo",C16="Di",C16="Mi",C16="Do",C16="Fr"))),$K$2,""))) -> 0.33333333 | I16: =IF(OR(D16="U",D16="K",D16="F",D16="FX"),E16,IF(MONTH($F$2)<MONTH(B16),"",G16-F16-H16)) -> 0 | J16: =IF(D16="FX",-E16*24,IF(F16="","",ROUND((G16-H16-F16-E16),4)*24))
B17: =B16+1 -> 46245 | C17: =IF(MONTH($F$2)<MONTH(B17),"",TEXT(B17,"TTT")) -> Di | E17: =IF(D17="F",0,IF(MONTH($F$2)<MONTH(B17),"",IF(AND(MONTH($F$2)=MONTH(B17),(OR(C17="Mo",C17="Di",C17="Mi",C17="Do",C17="Fr"))),$K$2,""))) -> 0.33333333 | I17: =IF(OR(D17="U",D17="K",D17="F",D17="FX"),E17,IF(MONTH($F$2)<MONTH(B17),"",G17-F17-H17)) -> 0 | J17: =IF(D17="FX",-E17*24,IF(F17="","",ROUND((G17-H17-F17-E17),4)*24))
B18: =B17+1 -> 46246 | C18: =IF(MONTH($F$2)<MONTH(B18),"",TEXT(B18,"TTT")) -> Mi | E18: =IF(D18="F",0,IF(MONTH($F$2)<MONTH(B18),"",IF(AND(MONTH($F$2)=MONTH(B18),(OR(C18="Mo",C18="Di",C18="Mi",C18="Do",C18="Fr"))),$K$2,""))) -> 0.33333333 | I18: =IF(OR(D18="U",D18="K",D18="F",D18="FX"),E18,IF(MONTH($F$2)<MONTH(B18),"",G18-F18-H18)) -> 0 | J18: =IF(D18="FX",-E18*24,IF(F18="","",ROUND((G18-H18-F18-E18),4)*24))
B19: =B18+1 -> 46247 | C19: =IF(MONTH($F$2)<MONTH(B19),"",TEXT(B19,"TTT")) -> Do | E19: =IF(D19="F",0,IF(MONTH($F$2)<MONTH(B19),"",IF(AND(MONTH($F$2)=MONTH(B19),(OR(C19="Mo",C19="Di",C19="Mi",C19="Do",C19="Fr"))),$K$2,""))) -> 0.33333333 | I19: =IF(OR(D19="U",D19="K",D19="F",D19="FX"),E19,IF(MONTH($F$2)<MONTH(B19),"",G19-F19-H19)) -> 0 | J19: =IF(D19="FX",-E19*24,IF(F19="","",ROUND((G19-H19-F19-E19),4)*24))
... B37: =B36+1 -> 46265 | C37: =IF(MONTH($F$2)<MONTH(B37),"",TEXT(B37,"TTT")) -> Mo | E37: =IF(D37="F",0,IF(MONTH($F$2)<MONTH(B37),"",IF(AND(MONTH($F$2)=MONTH(B37),(OR(C37="Mo",C37="Di",C37="Mi",C37="Do",C37="Fr"))),$K$2,""))) -> 0.33333333 | I37: =IF(OR(D37="U",D37="K",D37="F",D37="FX"),E37,IF(MONTH($F$2)<MONTH(B37),"",G37-F37-H37)) -> 0 | J37: =IF(D37="FX",-E37*24,IF(F37="","",ROUND((G37-H37-F37-E37),4)*24))
B39: Soll-Std./Mon. | E39: =F3*K2*24 -> 168 | F39: Geleistete Stunden (h) | I39: =SUM(I7:I37)*24 -> 0 | J39: =SUM(J7:K37) -> 0
B43: Datum, Unterschrift Arbeitnehmer | H43: Datum, Unterschrift Vorgesetzter

Sheet September
B2: Monat | F2: 46266 | I2: Soll-Stunden/Tag | K2: 0.33333333
B3: Arbeitstage | F3: =COUNT(E7:E37)-COUNTIFS(D7:D37,"F") -> 22 | I3: Soll-Stunden / Monat | K3: =K2*F3*24 -> 176
B6: Datum | C6: Tag | D6: Bezahlt frei | E6: Soll-Std. | F6: Beginn | G6: Ende | H6: Pause | I6: Stunden | J6: Über-/Minusstd.
B7: =F2 -> 46266 | C7: =IF(MONTH($F$2)<MONTH(B7),"",TEXT(B7,"TTT")) -> Di | E7: =IF(D7="F",0,IF(MONTH($F$2)<MONTH(B7),"",IF(AND(MONTH($F$2)=MONTH(B7),(OR(C7="Mo",C7="Di",C7="Mi",C7="Do",C7="Fr"))),$K$2,""))) -> 0.33333333 | I7: =IF(OR(D7="U",D7="K",D7="F",D7="FX"),E7,IF(MONTH($F$2)<MONTH(B7),"",G7-F7-H7)) -> 0 | J7: =IF(D7="FX",-E7*24,IF(F7="","",ROUND((G7-H7-F7-E7),4)*24))
B8: =B7+1 -> 46267 | C8: =IF(MONTH($F$2)<MONTH(B8),"",TEXT(B8,"TTT")) -> Mi | E8: =IF(D8="F",0,IF(MONTH($F$2)<MONTH(B8),"",IF(AND(MONTH($F$2)=MONTH(B8),(OR(C8="Mo",C8="Di",C8="Mi",C8="Do",C8="Fr"))),$K$2,""))) -> 0.33333333 | I8: =IF(OR(D8="U",D8="K",D8="F",D8="FX"),E8,IF(MONTH($F$2)<MONTH(B8),"",G8-F8-H8)) -> 0 | J8: =IF(D8="FX",-E8*24,IF(F8="","",ROUND((G8-H8-F8-E8),4)*24))
B9: =B8+1 -> 46268 | C9: =IF(MONTH($F$2)<MONTH(B9),"",TEXT(B9,"TTT")) -> Do | E9: =IF(D9="F",0,IF(MONTH($F$2)<MONTH(B9),"",IF(AND(MONTH($F$2)=MONTH(B9),(OR(C9="Mo",C9="Di",C9="Mi",C9="Do",C9="Fr"))),$K$2,""))) -> 0.33333333 | I9: =IF(OR(D9="U",D9="K",D9="F",D9="FX"),E9,IF(MONTH($F$2)<MONTH(B9),"",G9-F9-H9)) -> 0 | J9: =IF(D9="FX",-E9*24,IF(F9="","",ROUND((G9-H9-F9-E9),4)*24))
B10: =B9+1 -> 46269 | C10: =IF(MONTH($F$2)<MONTH(B10),"",TEXT(B10,"TTT")) -> Fr | E10: =IF(D10="F",0,IF(MONTH($F$2)<MONTH(B10),"",IF(AND(MONTH($F$2)=MONTH(B10),(OR(C10="Mo",C10="Di",C10="Mi",C10="Do",C10="Fr"))),$K$2,""))) -> 0.33333333 | I10: =IF(OR(D10="U",D10="K",D10="F",D10="FX"),E10,IF(MONTH($F$2)<MONTH(B10),"",G10-F10-H10)) -> 0 | J10: =IF(D10="FX",-E10*24,IF(F10="","",ROUND((G10-H10-F10-E10),4)*24))
B11: =B10+1 -> 46270 | C11: =IF(MONTH($F$2)<MONTH(B11),"",TEXT(B11,"TTT")) -> Sa | E11: =IF(D11="F",0,IF(MONTH($F$2)<MONTH(B11),"",IF(AND(MONTH($F$2)=MONTH(B11),(OR(C11="Mo",C11="Di",C11="Mi",C11="Do",C11="Fr"))),$K$2,""))) | I11: =IF(OR(D11="U",D11="K",D11="F",D11="FX"),E11,IF(MONTH($F$2)<MONTH(B11),"",G11-F11-H11)) -> 0 | J11: =IF(D11="FX",-E11*24,IF(F11="","",ROUND((G11-H11-F11-E11),4)*24))
B12: =B11+1 -> 46271 | C12: =IF(MONTH($F$2)<MONTH(B12),"",TEXT(B12,"TTT")) -> So | E12: =IF(D12="F",0,IF(MONTH($F$2)<MONTH(B12),"",IF(AND(MONTH($F$2)=MONTH(B12),(OR(C12="Mo",C12="Di",C12="Mi",C12="Do",C12="Fr"))),$K$2,""))) | I12: =IF(OR(D12="U",D12="K",D12="F",D12="FX"),E12,IF(MONTH($F$2)<MONTH(B12),"",G12-F12-H12)) -> 0 | J12: =IF(D12="FX",-E12*24,IF(F12="","",ROUND((G12-H12-F12-E12),4)*24))
B13: =B12+1 -> 46272 | C13: =IF(MONTH($F$2)<MONTH(B13),"",TEXT(B13,"TTT")) -> Mo | E13: =IF(D13="F",0,IF(MONTH($F$2)<MONTH(B13),"",IF(AND(MONTH($F$2)=MONTH(B13),(OR(C13="Mo",C13="Di",C13="Mi",C13="Do",C13="Fr"))),$K$2,""))) -> 0.33333333 | I13: =IF(OR(D13="U",D13="K",D13="F",D13="FX"),E13,IF(MONTH($F$2)<MONTH(B13),"",G13-F13-H13)) -> 0 | J13: =IF(D13="FX",-E13*24,IF(F13="","",ROUND((G13-H13-F13-E13),4)*24))
B14: =B13+1 -> 46273 | C14: =IF(MONTH($F$2)<MONTH(B14),"",TEXT(B14,"TTT")) -> Di | E14: =IF(D14="F",0,IF(MONTH($F$2)<MONTH(B14),"",IF(AND(MONTH($F$2)=MONTH(B14),(OR(C14="Mo",C14="Di",C14="Mi",C14="Do",C14="Fr"))),$K$2,""))) -> 0.33333333 | I14: =IF(OR(D14="U",D14="K",D14="F",D14="FX"),E14,IF(MONTH($F$2)<MONTH(B14),"",G14-F14-H14)) -> 0 | J14: =IF(D14="FX",-E14*24,IF(F14="","",ROUND((G14-H14-F14-E14),4)*24))
B15: =B14+1 -> 46274 | C15: =IF(MONTH($F$2)<MONTH(B15),"",TEXT(B15,"TTT")) -> Mi | E15: =IF(D15="F",0,IF(MONTH($F$2)<MONTH(B15),"",IF(AND(MONTH($F$2)=MONTH(B15),(OR(C15="Mo",C15="Di",C15="Mi",C15="Do",C15="Fr"))),$K$2,""))) -> 0.33333333 | I15: =IF(OR(D15="U",D15="K",D15="F",D15="FX"),E15,IF(MONTH($F$2)<MONTH(B15),"",G15-F15-H15)) -> 0 | J15: =IF(D15="FX",-E15*24,IF(F15="","",ROUND((G15-H15-F15-E15),4)*24))
